{"text_format":"1","workbook":"xlsx","n_sheets":9,"sheets":["DATOS GENERALES","LISTA ","1","2","3","PROMEDIOS","GRÁFICA","GENÉRICOS","BOLETA"],"not_rendered":{"charts":2,"images":4,"macros":1,"external_links":0,"defined_names":15,"comments":0,"pivot_tables":0},"unopened":[],"bounds":{"document_bytes":16777216,"sheet_cells":100000,"rows_first":2000,"rows_last":500,"rows_between":2000,"halvings":0,"cell_chars":16384,"cell_head_chars":4096},"cells_cut":0,"cells_raw":0,"read":"whole","date_system":"1900"}

{"sheet":"DATOS GENERALES","index":0,"n_rows":24,"n_cols":6,"rows_kept":24,"cut":false,"hidden":false,"merged":[[6,5,6,6]]}
[]
[]
[]
[null,null,null,null,"PRIMER GRADO PRIMARIA"]
[]
[]
[null,null,null,null,null,"DATOS GENERALES"]
[]
[null,null,null,null,null,"NOMBRE DE LA ESCUELA:"]
[null,null,null,null,null,"CCT:"]
[null,null,null,null,null,"TURNO:"]
[null,null,null,null,null,"GRUPO:"]
[null,null,null,null,null,"NOMBRE DEL MAESTRO:"]
[null,null,null,null,null,"NOMBRE DEL DIRECTOR:"]
[null,null,null,null,null,"LUGAR:"]
[]
[null,null,null,null,"Importante:"]
[null,null,null,null,"Registre los datos previo a llenar cualquier otra hoja, ya que alimentan los demás elementos."]
[]
[]
[]
[null,null,null,null,"Elaborado por Luis Gilberto Granados Lara"]
[null,null,null,null,"Explicación de su funcionamiento:"]
[null,null,null,null,"https://youtu.be/WrL7TzTlfIk"]

{"sheet":"LISTA ","index":1,"n_rows":57,"n_cols":24,"rows_kept":57,"cut":false,"hidden":false,"merged":[[4,10,5,10],[7,10,8,10],[0,2,0,3],[0,4,0,9],[2,3,2,4]]}
[null,null,"ESCUELA PRIMARIA   ",null,{"$f":"'DATOS GENERALES'!G9:G9","v":0}]
[null,null,"CICLO  ESCOLAR  2020-2021",null,null,null,null,null,null,null,null,null,null,null,"ESTADISTICA INCIAL "]
[null,null,"  GRUPO  ",{"$f":"'DATOS GENERALES'!G12","v":0},null,null,"AL","2020-09-01"]
["Nº","CURP","NOMBRE  DEL  ALUMNO","SEXO","DIA","MES","AÑO","FECHA_NAC","EDAD","REPETIDOR",null,null,"5 AÑOS","6 AÑOS","7 AÑOS","8 AÑOS","9 AÑOS","10 AÑOS","11 AÑOS","12 AÑOS","13 AÑOS","14 AÑOS","15 AÑOS","TOTAL"]
[1,"GALL050523H",null,{"$f":"MID(B5,11,1)","v":"H"},{"$f":"MID(B5,9,2)","v":"23"},{"$f":"MID(B5,7,2)","v":"05"},{"$f":"MID(B5,5,2)+2000","v":2005},{"$f":"DATE(G5,F5,E5)","v":"2005-05-23"},{"$f":"DATEDIF(H5,$H$3,\"Y\")","v":15},"NO","HOMBRES","NUEVO ING.",{"$f":"COUNTIFS($D$5:$D$49,\"H\",$I$5:$I$49,5,$J$5:$J$49,\"NO\")","v":0},{"$f":"COUNTIFS($D$5:$D$54,\"H\",$I$5:$I$54,6,$J$5:$J$54,\"NO\")","v":0},{"$f":"COUNTIFS($D$5:$D$49,\"H\",$I$5:$I$49,7,$J$5:$J$49,\"NO\")","v":0},{"$f":"COUNTIFS($D$5:$D$49,\"H\",$I$5:$I$49,8,$J$5:$J$49,\"NO\")","v":0},{"$f":"COUNTIFS($D$5:$D$49,\"H\",$I$5:$I$49,9,$J$5:$J$49,\"NO\")","v":0},{"$f":"COUNTIFS($D$5:$D$54,\"H\",$I$5:$I$54,10,$J$5:$J$54,\"NO\")","v":0},{"$f":"COUNTIFS($D$5:$D$49,\"H\",$I$5:$I$49,11,$J$5:$J$49,\"NO\")","v":0},{"$f":"COUNTIFS($D$5:$D$54,\"H\",$I$5:$I$54,12,$J$5:$J$54,\"NO\")","v":0},{"$f":"COUNTIFS($D$5:$D$49,\"H\",$I$5:$I$49,13,$J$5:$J$49,\"NO\")","v":0},{"$f":"COUNTIFS($D$5:$D$49,\"H\",$I$5:$I$49,14,$J$5:$J$49,\"NO\")","v":0},{"$f":"COUNTIFS($D$5:$D$49,\"H\",$I$5:$I$49,15,$J$5:$J$49,\"NO\")","v":4},{"$f":"SUM(M5:W5)","v":4}]
[2,"GALL050623H",null,"H","23","06",2005,{"$f":"DATE(G6,F6,E6)","v":"2005-06-23"},{"$f":"DATEDIF(H6,$H$3,\"Y\")","v":15},"NO",null,"REPETIDORES",{"$f":"COUNTIFS($D$5:$D$49,\"H\",$I$5:$I$49,5,$J$5:$J$49,\"SI\")","v":0},{"$f":"COUNTIFS($D$5:$D$49,\"H\",$I$5:$I$49,6,$J$5:$J$49,\"SI\")","v":0},{"$f":"COUNTIFS($D$5:$D$49,\"H\",$I$5:$I$49,7,$J$5:$J$49,\"SI\")","v":0},{"$f":"COUNTIFS($D$5:$D$54,\"H\",$I$5:$I$54,8,$J$5:$J$54,\"SI\")","v":0},{"$f":"COUNTIFS($D$5:$D$49,\"H\",$I$5:$I$49,9,$J$5:$J$49,\"SI\")","v":0},{"$f":"COUNTIFS($D$5:$D$54,\"H\",$I$5:$I$54,10,$J$5:$J$54,\"SI\")","v":0},{"$f":"COUNTIFS($D$5:$D$49,\"H\",$I$5:$I$49,11,$J$5:$J$49,\"SI\")","v":0},{"$f":"COUNTIFS($D$5:$D$51,\"H\",$I$5:$I$51,12,$J$5:$J$51,\"SI\")","v":0},{"$f":"COUNTIFS($D$5:$D$49,\"H\",$I$5:$I$49,13,$J$5:$J$49,\"SI\")","v":0},{"$f":"COUNTIFS($D$5:$D$49,\"H\",$I$5:$I$49,14,$J$5:$J$49,\"SI\")","v":0},{"$f":"COUNTIFS($D$5:$D$49,\"H\",$I$5:$I$49,15,$J$5:$J$49,\"SI\")","v":0},{"$f":"SUM(M6:W6)","v":0}]
[3,"GALL050525H",null,"H","25","05",2005,"2005-05-25",{"$f":"DATEDIF(H7,$H$3,\"Y\")","v":15},"NO"]
[4,"GALL050513H",null,"H","13","05",2005,"2005-05-13",15,"NO","MUJERES","NUEVO ING.",{"$f":"COUNTIFS($D$5:$D$49,\"M\",$I$5:$I$49,5,$J$5:$J$49,\"NO\")","v":0},{"$f":"COUNTIFS($D$5:$D$49,\"M\",$I$5:$I$49,6,$J$5:$J$49,\"NO\")","v":0},{"$f":"COUNTIFS($D$5:$D$49,\"M\",$I$5:$I$49,7,$J$5:$J$49,\"NO\")","v":0},{"$f":"COUNTIFS($D$5:$D$49,\"M\",$I$5:$I$49,8,$J$5:$J$49,\"NO\")","v":0},{"$f":"COUNTIFS($D$5:$D$49,\"M\",$I$5:$I$49,9,$J$5:$J$49,\"NO\")","v":0},{"$f":"COUNTIFS($D$5:$D$53,\"M\",$I$5:$I$53,10,$J$5:$J$53,\"NO\")","v":0},{"$f":"COUNTIFS($D$5:$D$49,\"M\",$I$5:$I$49,11,$J$5:$J$49,\"NO\")","v":0},{"$f":"COUNTIFS($D$5:$D$54,\"M\",$I$5:$I$54,12,$J$5:$J$54,\"NO\")","v":0},{"$f":"COUNTIFS($D$5:$D$49,\"M\",$I$5:$I$49,13,$J$5:$J$49,\"NO\")","v":0},{"$f":"COUNTIFS($D$5:$D$49,\"M\",$I$5:$I$49,14,$J$5:$J$49,\"NO\")","v":0},{"$f":"COUNTIFS($D$5:$D$49,\"M\",$I$5:$I$49,15,$J$5:$J$49,\"NO\")","v":0},{"$f":"SUM(M8:W8)","v":0}]
[5,null,null,"","","",{"$error":"#VALUE!"},{"$error":"#VALUE!"},{"$error":"#VALUE!"},"NO",null,"REPETIDORES",{"$f":"COUNTIFS($D$5:$D$49,\"M\",$I$5:$I$49,5,$J$5:$J$49,\"SI\")","v":0},{"$f":"COUNTIFS($D$5:$D$49,\"M\",$I$5:$I$49,6,$J$5:$J$49,\"SI\")","v":0},{"$f":"COUNTIFS($D$5:$D$49,\"M\",$I$5:$I$49,7,$J$5:$J$49,\"SI\")","v":0},{"$f":"COUNTIFS($D$5:$D$54,\"M\",$I$5:$I$54,8,$J$5:$J$54,\"SI\")","v":0},{"$f":"COUNTIFS($D$5:$D$54,\"M\",$I$5:$I$54,9,$J$5:$J$54,\"SI\")","v":0},{"$f":"COUNTIFS($D$5:$D$54,\"M\",$I$5:$I$54,10,$J$5:$J$54,\"SI\")","v":0},{"$f":"COUNTIFS($D$5:$D$49,\"M\",$I$5:$I$49,11,$J$5:$J$49,\"SI\")","v":0},{"$f":"COUNTIFS($D$5:$D$49,\"M\",$I$5:$I$49,12,$J$5:$J$49,\"SI\")","v":0},{"$f":"COUNTIFS($D$5:$D$49,\"M\",$I$5:$I$49,13,$J$5:$J$49,\"SI\")","v":0},{"$f":"COUNTIFS($D$5:$D$49,\"M\",$I$5:$I$49,14,$J$5:$J$49,\"SI\")","v":0},{"$f":"COUNTIFS($D$5:$D$49,\"M\",$I$5:$I$49,15,$J$5:$J$49,\"SI\")","v":0},0]
[6,null,null,"","","",{"$error":"#VALUE!"},{"$error":"#VALUE!"},{"$error":"#VALUE!"},"NO"]
[7,null,null,"","","",{"$error":"#VALUE!"},{"$error":"#VALUE!"},{"$error":"#VALUE!"},"NO",null,"SUBTOTAL",{"$f":"SUM(M5:M9)","v":0},{"$f":"SUM(N5:N9)","v":0},0,0,0,0,0,0,0,0,4,{"$f":"SUM(M11:W11)","v":4}]
[8,null,null,"","","",{"$error":"#VALUE!"},{"$error":"#VALUE!"},{"$error":"#VALUE!"},"NO"]
[9,null,null,"","","",{"$error":"#VALUE!"},{"$error":"#VALUE!"},{"$error":"#VALUE!"},"NO"]
[10,null,null,"","","",{"$error":"#VALUE!"},{"$error":"#VALUE!"},{"$error":"#VALUE!"},"NO"]
[11,null,null,"","","",{"$error":"#VALUE!"},{"$error":"#VALUE!"},{"$error":"#VALUE!"},"NO"]
[12,null,null,"","","",{"$error":"#VALUE!"},{"$error":"#VALUE!"},{"$error":"#VALUE!"},"NO"]
[13,null,null,"","","",{"$error":"#VALUE!"},{"$error":"#VALUE!"},{"$error":"#VALUE!"},"NO"]
[14,null,null,"","","",{"$error":"#VALUE!"},{"$error":"#VALUE!"},{"$error":"#VALUE!"},"NO"]
[15,null,null,"","","",{"$error":"#VALUE!"},{"$error":"#VALUE!"},{"$error":"#VALUE!"},"NO"]
[16,null,null,"","","",{"$error":"#VALUE!"},{"$error":"#VALUE!"},{"$error":"#VALUE!"},"NO"]
[17,null,null,"","","",{"$error":"#VALUE!"},{"$error":"#VALUE!"},{"$error":"#VALUE!"},"NO"]
[18,null,null,"","","",{"$error":"#VALUE!"},{"$error":"#VALUE!"},{"$error":"#VALUE!"},"NO"]
[19,null,null,"","","",{"$error":"#VALUE!"},{"$error":"#VALUE!"},{"$error":"#VALUE!"},"NO"]
[20,null,null,"","","",{"$error":"#VALUE!"},{"$error":"#VALUE!"},{"$error":"#VALUE!"},"NO"]
[21,null,null,"","","",{"$error":"#VALUE!"},{"$error":"#VALUE!"},{"$error":"#VALUE!"},"NO"]
[22,null,null,"","","",{"$error":"#VALUE!"},{"$error":"#VALUE!"},{"$error":"#VALUE!"},"NO"]
[23,null,null,"","","",{"$error":"#VALUE!"},{"$error":"#VALUE!"},{"$error":"#VALUE!"},"NO"]
[24,null,null,"","","",{"$error":"#VALUE!"},{"$error":"#VALUE!"},{"$error":"#VALUE!"},"NO"]
[25,null,null,"","","",{"$error":"#VALUE!"},{"$error":"#VALUE!"},{"$error":"#VALUE!"},"NO"]
[26,null,null,"","","",{"$error":"#VALUE!"},{"$error":"#VALUE!"},{"$error":"#VALUE!"},"NO"]
[27,null,null,"","","",{"$error":"#VALUE!"},{"$error":"#VALUE!"},{"$error":"#VALUE!"},"NO",null,null,null,"Elaborado por Luis Gilberto Granados Lara"]
[28,null,null,"","","",{"$error":"#VALUE!"},{"$error":"#VALUE!"},{"$error":"#VALUE!"},"NO",null,null,null,"Explicación de su funcionamiento:"]
[29,null,null,"","","",{"$error":"#VALUE!"},{"$error":"#VALUE!"},{"$error":"#VALUE!"},"NO",null,null,null,"https://youtu.be/WrL7TzTlfIk"]
[30,null,null,"","","",{"$error":"#VALUE!"},{"$error":"#VALUE!"},{"$error":"#VALUE!"},"NO"]
[31,null,null,"","","",{"$error":"#VALUE!"},{"$error":"#VALUE!"},{"$error":"#VALUE!"},"NO"]
[32,null,null,"","","",{"$error":"#VALUE!"},{"$error":"#VALUE!"},{"$error":"#VALUE!"},"NO"]
[33,null,null,"","","",{"$error":"#VALUE!"},{"$error":"#VALUE!"},{"$error":"#VALUE!"},"NO"]
[34,null,null,"","","",{"$error":"#VALUE!"},{"$error":"#VALUE!"},{"$error":"#VALUE!"},"NO"]
[35,null,null,"","","",{"$error":"#VALUE!"},{"$error":"#VALUE!"},{"$error":"#VALUE!"},"NO"]
[36,null,null,"","","",{"$error":"#VALUE!"},{"$error":"#VALUE!"},{"$error":"#VALUE!"},"NO"]
[37,null,null,"","","",{"$error":"#VALUE!"},{"$error":"#VALUE!"},{"$error":"#VALUE!"},"NO",null,null,"Basado en la selección de aprendizajes del Modelo de Concreción curricular de Primaria y Secundaria"]
[38,null,null,"","","",{"$error":"#VALUE!"},{"$error":"#VALUE!"},{"$error":"#VALUE!"},"NO"]
[39,null,null,"","","",{"$error":"#VALUE!"},{"$error":"#VALUE!"},{"$error":"#VALUE!"},"NO"]
[40,null,null,"","","",{"$error":"#VALUE!"},{"$error":"#VALUE!"},{"$error":"#VALUE!"},"NO"]
[41,null,null,"","","",{"$error":"#VALUE!"},{"$error":"#VALUE!"},{"$error":"#VALUE!"},"NO"]
[42,null,null,"","","",{"$error":"#VALUE!"},{"$f":"DATE(G46,F46,E46)","v":{"$error":"#VALUE!"}},{"$f":"DATEDIF(H46,$H$3,\"Y\")","v":{"$error":"#VALUE!"}},"NO"]
[43,null,null,"","","",{"$error":"#VALUE!"},{"$error":"#VALUE!"},{"$error":"#VALUE!"},"NO"]
[44,null,null,"","","",{"$error":"#VALUE!"},{"$error":"#VALUE!"},{"$error":"#VALUE!"},"NO"]
[45,null,null,"","","",{"$error":"#VALUE!"},{"$error":"#VALUE!"},{"$error":"#VALUE!"},"NO"]
[46,null,null,"","","",{"$error":"#VALUE!"},{"$f":"DATE(G50,F50,E50)","v":{"$error":"#VALUE!"}},{"$f":"DATEDIF(H50,$H$3,\"Y\")","v":{"$error":"#VALUE!"}},"NO"]
[47,null,null,"","","",{"$error":"#VALUE!"},{"$f":"DATE(G51,F51,E51)","v":{"$error":"#VALUE!"}},{"$f":"DATEDIF(H51,$H$3,\"Y\")","v":{"$error":"#VALUE!"}},"NO"]
[48,null,null,"","","",{"$error":"#VALUE!"},{"$f":"DATE(G52,F52,E52)","v":{"$error":"#VALUE!"}},{"$f":"DATEDIF(H52,$H$3,\"Y\")","v":{"$error":"#VALUE!"}},"NO"]
[49,null,null,"","","",{"$error":"#VALUE!"},{"$f":"DATE(G53,F53,E53)","v":{"$error":"#VALUE!"}},{"$f":"DATEDIF(H53,$H$3,\"Y\")","v":{"$error":"#VALUE!"}},"NO"]
[50,null,null,"","","",{"$error":"#VALUE!"},{"$f":"DATE(G54,F54,E54)","v":{"$error":"#VALUE!"}},{"$f":"DATEDIF(H54,$H$3,\"Y\")","v":{"$error":"#VALUE!"}},"NO"]
[null,null,null,null,null,null,null,"MUJERES",{"$f":"COUNTIF(D5:D54, \"M\")","v":0}]
[null,null,null,null,null,null,null,"HOMBRES",{"$f":"COUNTIF(D5:D54,\"H\")","v":4}]
[null,null,null,null,null,null,null,"TOTAL",{"$f":"SUM(I55:I56)","v":4}]

{"sheet":"1","index":2,"n_rows":66,"n_cols":21,"rows_kept":66,"cut":false,"hidden":false,"merged":[[11,20,18,21],[59,14,59,17],[0,0,0,19],[2,2,2,7],[56,7,56,11],[58,4,58,12],[57,14,57,15],[1,2,1,7],[1,14,1,16],[2,17,2,18],[3,17,3,18]]}
["CICLO  ESCOLAR  2020-2021"]
[null,"ESCUELA PRIMARIA ",{"$f":"'DATOS GENERALES'!G9","v":0},null,null,null,null,null,null,null,null,null,"GRUPO ",null,{"$f":"'DATOS GENERALES'!G12","v":0}]
[null,null,"PRIMER PERIODO",null,null,null,null,null,null,null,null,null,null,null,"ASISTENCIAS",null,null,"TOTAL  "]
[null,"INGRESE CANTIDAD DE ALUMNOS",50,null,null,null,null,null,null,null,null,null,"INGRESE DÍAS HÁBILES POR MES",10,20,20,18,{"$f":"SUM(N4:Q4)","v":68}]
["Nº","CURP","NOMBRE  DEL  ALUMNO",null,"ESPAÑOL","MATEMÁTICAS","INGLES","CONOCIMIENTO DEL MEDIO","ARTES","EDUC FISICA","VIDA SALUDABLE","EDUCACIÓN CÍVICA","PROMEDIO","AGOSTO","SEPTIEMBRE","OCTUBRE","NOVIEMBRE","TOTAL ASISTENCIAS","% ASISTENCIA POR ALUMNO"]
[1,{"$f":"'LISTA '!B5","v":"GALL050523H"},{"$f":"'LISTA '!C5","v":0},{"$f":"B6","v":"GALL050523H"},0,null,null,null,null,null,null,null,{"$f":"IFERROR(AVERAGE(E6,F6,H6,I6,J6),\"ND\")","v":0},null,null,null,null,{"$f":"SUM(N6:Q6)","v":0},{"$f":"R6/$R$4","v":0}]
[2,{"$f":"'LISTA '!B6","v":"GALL050623H"},{"$f":"'LISTA '!C6","v":0},{"$f":"B7","v":"GALL050623H"},0,null,null,null,null,null,null,null,{"$f":"IFERROR(AVERAGE(E7,F7,H7,I7,J7),\"ND\")","v":0},null,null,null,null,{"$f":"SUM(N7:Q7)","v":0},{"$f":"R7/$R$4","v":0}]
[3,{"$f":"'LISTA '!B7","v":"GALL050525H"},{"$f":"'LISTA '!C7","v":0},"GALL050525H",0,null,null,null,null,null,null,null,0,null,null,null,null,0,0]
[4,{"$f":"'LISTA '!B8","v":"GALL050513H"},{"$f":"'LISTA '!C8","v":0},"GALL050513H",0,null,null,null,null,null,null,null,0,null,null,null,null,0,0]
[5,{"$f":"'LISTA '!B9","v":0},{"$f":"'LISTA '!C9","v":0},0,0,null,null,null,null,null,null,null,0,null,null,null,null,0,0]
[6,{"$f":"'LISTA '!B10","v":0},{"$f":"'LISTA '!C10","v":0},0,0,null,null,null,null,null,null,null,0,null,null,null,null,0,0]
[7,{"$f":"'LISTA '!B11","v":0},{"$f":"'LISTA '!C11","v":0},0,0,null,null,null,null,null,null,null,0,null,null,null,null,0,0,null,"NOTA: DEBE NOTIFICAR EN LAS CELDAS AMARILLAS LA CANTIDAD DE ALUMNOS Y DE DÍAS HÁBILES POR MES PARA UN CORRECTO CÁLCULO.\n**PUEDE ELIMINAR FILAS  Y NO SE ALTERARÁN LAS FÓRMULAS."]
[8,{"$f":"'LISTA '!B12","v":0},{"$f":"'LISTA '!C12","v":0},0,0,null,null,null,null,null,null,null,0,null,null,null,null,0,0]
[9,{"$f":"'LISTA '!B13","v":0},{"$f":"'LISTA '!C13","v":0},0,0,null,null,null,null,null,null,null,0,null,null,null,null,0,0]
[10,{"$f":"'LISTA '!B14","v":0},{"$f":"'LISTA '!C14","v":0},0,0,null,null,null,null,null,null,null,0,null,null,null,null,0,0]
[11,{"$f":"'LISTA '!B15","v":0},{"$f":"'LISTA '!C15","v":0},0,0,null,null,null,null,null,null,null,0,null,null,null,null,0,0]
[12,{"$f":"'LISTA '!B16","v":0},{"$f":"'LISTA '!C16","v":0},0,0,null,null,null,null,null,null,null,0,null,null,null,null,0,0]
[13,{"$f":"'LISTA '!B17","v":0},{"$f":"'LISTA '!C17","v":0},0,0,null,null,null,null,null,null,null,0,null,null,null,null,0,0]
[14,{"$f":"'LISTA '!B18","v":0},{"$f":"'LISTA '!C18","v":0},0,0,null,null,null,null,null,null,null,0,null,null,null,null,0,0]
[15,{"$f":"'LISTA '!B19","v":0},{"$f":"'LISTA '!C19","v":0},0,0,null,null,null,null,null,null,null,0,null,null,null,null,0,0]
[16,{"$f":"'LISTA '!B20","v":0},{"$f":"'LISTA '!C20","v":0},0,0,null,null,null,null,null,null,null,0,null,null,null,null,0,0]
[17,{"$f":"'LISTA '!B21","v":0},{"$f":"'LISTA '!C21","v":0},0,0,null,null,null,null,null,null,null,0,null,null,null,null,0,0]
[18,{"$f":"'LISTA '!B22","v":0},{"$f":"'LISTA '!C22","v":0},0,0,null,null,null,null,null,null,null,0,null,null,null,null,0,0]
[19,{"$f":"'LISTA '!B23","v":0},{"$f":"'LISTA '!C23","v":0},0,0,null,null,null,null,null,null,null,0,null,null,null,null,0,0]
[20,{"$f":"'LISTA '!B24","v":0},{"$f":"'LISTA '!C24","v":0},0,0,null,null,null,null,null,null,null,0,null,null,null,null,0,0]
[21,{"$f":"'LISTA '!B25","v":0},{"$f":"'LISTA '!C25","v":0},0,0,null,null,null,null,null,null,null,0,null,null,null,null,0,0]
[22,{"$f":"'LISTA '!B26","v":0},{"$f":"'LISTA '!C26","v":0},0,0,null,null,null,null,null,null,null,0,null,null,null,null,0,0]
[23,{"$f":"'LISTA '!B27","v":0},{"$f":"'LISTA '!C27","v":0},0,0,null,null,null,null,null,null,null,0,null,null,null,null,0,0]
[24,{"$f":"'LISTA '!B28","v":0},{"$f":"'LISTA '!C28","v":0},0,0,null,null,null,null,null,null,null,0,null,null,null,null,0,0]
[25,{"$f":"'LISTA '!B29","v":0},{"$f":"'LISTA '!C29","v":0},0,0,null,null,null,null,null,null,null,0,null,null,null,null,0,0]
[26,{"$f":"'LISTA '!B30","v":0},{"$f":"'LISTA '!C30","v":0},0,0,null,null,null,null,null,null,null,0,null,null,null,null,0,0]
[27,{"$f":"'LISTA '!B31","v":0},{"$f":"'LISTA '!C31","v":0},0,0,null,null,null,null,null,null,null,0,null,null,null,null,0,0]
[28,{"$f":"'LISTA '!B32","v":0},{"$f":"'LISTA '!C32","v":0},0,0,null,null,null,null,null,null,null,0,null,null,null,null,0,0]
[29,{"$f":"'LISTA '!B33","v":0},{"$f":"'LISTA '!C33","v":0},0,0,null,null,null,null,null,null,null,0,null,null,null,null,0,0]
[30,{"$f":"'LISTA '!B34","v":0},{"$f":"'LISTA '!C34","v":0},0,0,null,null,null,null,null,null,null,0,null,null,null,null,0,0]
[31,{"$f":"'LISTA '!B35","v":0},{"$f":"'LISTA '!C35","v":0},0,0,null,null,null,null,null,null,null,0,null,null,null,null,0,0]
[32,{"$f":"'LISTA '!B36","v":0},{"$f":"'LISTA '!C36","v":0},0,0,null,null,null,null,null,null,null,0,null,null,null,null,0,0]
[33,{"$f":"'LISTA '!B37","v":0},{"$f":"'LISTA '!C37","v":0},0,0,null,null,null,null,null,null,null,0,null,null,null,null,0,0]
[34,{"$f":"'LISTA '!B38","v":0},{"$f":"'LISTA '!C38","v":0},0,0,null,null,null,null,null,null,null,0,null,null,null,null,0,0]
[35,{"$f":"'LISTA '!B39","v":0},{"$f":"'LISTA '!C39","v":0},0,0,null,null,null,null,null,null,null,0,null,null,null,null,0,0]
[36,{"$f":"'LISTA '!B40","v":0},{"$f":"'LISTA '!C40","v":0},0,0,null,null,null,null,null,null,null,0,null,null,null,null,0,0]
[37,{"$f":"'LISTA '!B41","v":0},{"$f":"'LISTA '!C41","v":0},0,0,null,null,null,null,null,null,null,0,null,null,null,null,0,0]
[38,{"$f":"'LISTA '!B42","v":0},{"$f":"'LISTA '!C42","v":0},0,0,null,null,null,null,null,null,null,0,null,null,null,null,0,0]
[39,{"$f":"'LISTA '!B43","v":0},{"$f":"'LISTA '!C43","v":0},0,0,null,null,null,null,null,null,null,0,null,null,null,null,0,0]
[40,{"$f":"'LISTA '!B44","v":0},{"$f":"'LISTA '!C44","v":0},0,0,null,null,null,null,null,null,null,0,null,null,null,null,0,0]
[41,{"$f":"'LISTA '!B45","v":0},{"$f":"'LISTA '!C45","v":0},0,0,null,null,null,null,null,null,null,0,null,null,null,null,0,0]
[42,{"$f":"'LISTA '!B46","v":0},{"$f":"'LISTA '!C46","v":0},0,0,null,null,null,null,null,null,null,0,null,null,null,null,0,0]
[43,{"$f":"'LISTA '!B47","v":0},{"$f":"'LISTA '!C47","v":0},0,0,null,null,null,null,null,null,null,0,null,null,null,null,0,0]
[44,{"$f":"'LISTA '!B48","v":0},{"$f":"'LISTA '!C48","v":0},0,0,null,null,null,null,null,null,null,0,null,null,null,null,0,0]
[45,{"$f":"'LISTA '!B49","v":0},{"$f":"'LISTA '!C49","v":0},0,0,null,null,null,null,null,null,null,0,null,null,null,null,0,0]
[46,{"$f":"'LISTA '!B50","v":0},{"$f":"'LISTA '!C50","v":0},0,0,null,null,null,null,null,null,null,0,null,null,null,null,0,0]
[47,{"$f":"'LISTA '!B51","v":0},{"$f":"'LISTA '!C51","v":0},0,0,null,null,null,null,null,null,null,0,null,null,null,null,0,0]
[48,{"$f":"'LISTA '!B52","v":0},{"$f":"'LISTA '!C52","v":0},0,0,null,null,null,null,null,null,null,0,null,null,null,null,0,0]
[49,{"$f":"'LISTA '!B53","v":0},{"$f":"'LISTA '!C53","v":0},0,0,null,null,null,null,null,null,null,0,null,null,null,null,0,0]
[50,{"$f":"'LISTA '!B54","v":0},{"$f":"'LISTA '!C54","v":0},0,0,null,null,null,null,null,null,null,0,null,null,null,null,0,0]
[null,"PROFESOR (A)",{"$f":"'DATOS GENERALES'!G13","v":0}]
[null,null,null,null,null,null,null,"ASISTENCIA MENSUAL",null,null,null,null,null,{"$f":"(SUM(N6:N55)/($C$4*N4))","v":0},{"$f":"(SUM(O6:O55)/($C$4*O4))","v":0},0,0]
[]
[]
[null,null,"PROMEDIOS PERIODO ",null,{"$f":"AVERAGE(E6:E55)","v":0},{"$f":"AVERAGE(F6:F55)","v":{"$error":"#DIV/0!"}},{"$error":"#DIV/0!"},{"$error":"#DIV/0!"},{"$error":"#DIV/0!"},{"$error":"#DIV/0!"},{"$error":"#DIV/0!"},{"$error":"#DIV/0!"},{"$f":"AVERAGE(M6:M55)","v":0},null,"ASISTENCIA PERIODO",null,null,null,{"$f":"AVERAGE(S6:S55)","v":0}]
[]
[]
[]
[]
[]
[null,"DISEÑADO POR : LUIS GILBERTO GRANADOS LARA"]

{"sheet":"2","index":3,"n_rows":66,"n_cols":21,"rows_kept":66,"cut":false,"hidden":false,"merged":[[3,17,3,18],[0,0,0,19],[1,2,1,7],[1,14,1,16],[2,2,2,7],[2,17,2,18],[11,20,18,21],[56,7,56,11],[57,14,57,15],[58,4,58,12],[59,14,59,17]]}
["CICLO  ESCOLAR  2020-2021"]
[null,"ESCUELA PRIMARIA ",{"$f":"'DATOS GENERALES'!G9","v":0},null,null,null,null,null,null,null,null,null,"GRUPO ",null,{"$f":"'DATOS GENERALES'!G12","v":0}]
[null,null,"SEGUNDO PERIODO",null,null,null,null,null,null,null,null,null,null,null,"ASISTENCIAS",null,null,"TOTAL  "]
[null,"INGRESE CANTIDAD DE ALUMNOS",50,null,null,null,null,null,null,null,null,null,"INGRESE DÍAS HÁBILES POR MES",10,20,18,18,{"$f":"SUM(N4:Q4)","v":66}]
["Nº","CURP","NOMBRE  DEL  ALUMNO",null,"ESPAÑOL","MATEMÁTICAS","INGLES","CONOCIMIENTO DEL MEDIO","ARTES","EDUC FISICA","VIDA SALUDABLE","EDUCACIÓN CÍVICA","PROMEDIO","DICIEMBRE","ENERO","FEBRERO","MARZO","TOTAL ASISTENCIAS","% ASISTENCIA POR ALUMNO"]
[1,{"$f":"'LISTA '!B5","v":"GALL050523H"},{"$f":"'LISTA '!C5","v":0},{"$f":"B6","v":"GALL050523H"},0,null,null,null,null,null,null,null,{"$f":"IFERROR(AVERAGE(E6,F6,H6,I6,J6),\"ND\")","v":0},null,null,null,null,{"$f":"SUM(N6:Q6)","v":0},{"$f":"R6/$R$4","v":0}]
[2,{"$f":"'LISTA '!B6","v":"GALL050623H"},{"$f":"'LISTA '!C6","v":0},{"$f":"B7","v":"GALL050623H"},0,null,null,null,null,null,null,null,{"$f":"IFERROR(AVERAGE(E7,F7,H7,I7,J7),\"ND\")","v":0},null,null,null,null,{"$f":"SUM(N7:Q7)","v":0},{"$f":"R7/$R$4","v":0}]
[3,{"$f":"'LISTA '!B7","v":"GALL050525H"},{"$f":"'LISTA '!C7","v":0},"GALL050525H",0,null,null,null,null,null,null,null,0,null,null,null,null,0,0]
[4,{"$f":"'LISTA '!B8","v":"GALL050513H"},{"$f":"'LISTA '!C8","v":0},"GALL050513H",0,null,null,null,null,null,null,null,0,null,null,null,null,0,0]
[5,{"$f":"'LISTA '!B9","v":0},{"$f":"'LISTA '!C9","v":0},0,0,null,null,null,null,null,null,null,0,null,null,null,null,0,0]
[6,{"$f":"'LISTA '!B10","v":0},{"$f":"'LISTA '!C10","v":0},0,0,null,null,null,null,null,null,null,0,null,null,null,null,0,0]
[7,{"$f":"'LISTA '!B11","v":0},{"$f":"'LISTA '!C11","v":0},0,0,null,null,null,null,null,null,null,0,null,null,null,null,0,0,null,"NOTA: DEBE NOTIFICAR EN LAS CELDAS AMARILLAS LA CANTIDAD DE ALUMNOS Y DE DÍAS HÁBILES POR MES PARA UN CORRECTO CÁLCULO.\n**PUEDE ELIMINAR FILAS  Y NO SE ALTERARÁN LAS FÓRMULAS."]
[8,{"$f":"'LISTA '!B12","v":0},{"$f":"'LISTA '!C12","v":0},0,0,null,null,null,null,null,null,null,0,null,null,null,null,0,0]
[9,{"$f":"'LISTA '!B13","v":0},{"$f":"'LISTA '!C13","v":0},0,0,null,null,null,null,null,null,null,0,null,null,null,null,0,0]
[10,{"$f":"'LISTA '!B14","v":0},{"$f":"'LISTA '!C14","v":0},0,0,null,null,null,null,null,null,null,0,null,null,null,null,0,0]
[11,{"$f":"'LISTA '!B15","v":0},{"$f":"'LISTA '!C15","v":0},0,0,null,null,null,null,null,null,null,0,null,null,null,null,0,0]
[12,{"$f":"'LISTA '!B16","v":0},{"$f":"'LISTA '!C16","v":0},0,0,null,null,null,null,null,null,null,0,null,null,null,null,0,0]
[13,{"$f":"'LISTA '!B17","v":0},{"$f":"'LISTA '!C17","v":0},0,0,null,null,null,null,null,null,null,0,null,null,null,null,0,0]
[14,{"$f":"'LISTA '!B18","v":0},{"$f":"'LISTA '!C18","v":0},0,0,null,null,null,null,null,null,null,0,null,null,null,null,0,0]
[15,{"$f":"'LISTA '!B19","v":0},{"$f":"'LISTA '!C19","v":0},0,0,null,null,null,null,null,null,null,0,null,null,null,null,0,0]
[16,{"$f":"'LISTA '!B20","v":0},{"$f":"'LISTA '!C20","v":0},0,0,null,null,null,null,null,null,null,0,null,null,null,null,0,0]
[17,{"$f":"'LISTA '!B21","v":0},{"$f":"'LISTA '!C21","v":0},0,0,null,null,null,null,null,null,null,0,null,null,null,null,0,0]
[18,{"$f":"'LISTA '!B22","v":0},{"$f":"'LISTA '!C22","v":0},0,0,null,null,null,null,null,null,null,0,null,null,null,null,0,0]
[19,{"$f":"'LISTA '!B23","v":0},{"$f":"'LISTA '!C23","v":0},0,0,null,null,null,null,null,null,null,0,null,null,null,null,0,0]
[20,{"$f":"'LISTA '!B24","v":0},{"$f":"'LISTA '!C24","v":0},0,0,null,null,null,null,null,null,null,0,null,null,null,null,0,0]
[21,{"$f":"'LISTA '!B25","v":0},{"$f":"'LISTA '!C25","v":0},0,0,null,null,null,null,null,null,null,0,null,null,null,null,0,0]
[22,{"$f":"'LISTA '!B26","v":0},{"$f":"'LISTA '!C26","v":0},0,0,null,null,null,null,null,null,null,0,null,null,null,null,0,0]
[23,{"$f":"'LISTA '!B27","v":0},{"$f":"'LISTA '!C27","v":0},0,0,null,null,null,null,null,null,null,0,null,null,null,null,0,0]
[24,{"$f":"'LISTA '!B28","v":0},{"$f":"'LISTA '!C28","v":0},0,0,null,null,null,null,null,null,null,0,null,null,null,null,0,0]
[25,{"$f":"'LISTA '!B29","v":0},{"$f":"'LISTA '!C29","v":0},0,0,null,null,null,null,null,null,null,0,null,null,null,null,0,0]
[26,{"$f":"'LISTA '!B30","v":0},{"$f":"'LISTA '!C30","v":0},0,0,null,null,null,null,null,null,null,0,null,null,null,null,0,0]
[27,{"$f":"'LISTA '!B31","v":0},{"$f":"'LISTA '!C31","v":0},0,0,null,null,null,null,null,null,null,0,null,null,null,null,0,0]
[28,{"$f":"'LISTA '!B32","v":0},{"$f":"'LISTA '!C32","v":0},0,0,null,null,null,null,null,null,null,0,null,null,null,null,0,0]
[29,{"$f":"'LISTA '!B33","v":0},{"$f":"'LISTA '!C33","v":0},0,0,null,null,null,null,null,null,null,0,null,null,null,null,0,0]
[30,{"$f":"'LISTA '!B34","v":0},{"$f":"'LISTA '!C34","v":0},0,0,null,null,null,null,null,null,null,0,null,null,null,null,0,0]
[31,{"$f":"'LISTA '!B35","v":0},{"$f":"'LISTA '!C35","v":0},0,0,null,null,null,null,null,null,null,0,null,null,null,null,0,0]
[32,{"$f":"'LISTA '!B36","v":0},{"$f":"'LISTA '!C36","v":0},0,0,null,null,null,null,null,null,null,0,null,null,null,null,0,0]
[33,{"$f":"'LISTA '!B37","v":0},{"$f":"'LISTA '!C37","v":0},0,0,null,null,null,null,null,null,null,0,null,null,null,null,0,0]
[34,{"$f":"'LISTA '!B38","v":0},{"$f":"'LISTA '!C38","v":0},0,0,null,null,null,null,null,null,null,0,null,null,null,null,0,0]
[35,{"$f":"'LISTA '!B39","v":0},{"$f":"'LISTA '!C39","v":0},0,0,null,null,null,null,null,null,null,0,null,null,null,null,0,0]
[36,{"$f":"'LISTA '!B40","v":0},{"$f":"'LISTA '!C40","v":0},0,0,null,null,null,null,null,null,null,0,null,null,null,null,0,0]
[37,{"$f":"'LISTA '!B41","v":0},{"$f":"'LISTA '!C41","v":0},0,0,null,null,null,null,null,null,null,0,null,null,null,null,0,0]
[38,{"$f":"'LISTA '!B42","v":0},{"$f":"'LISTA '!C42","v":0},0,0,null,null,null,null,null,null,null,0,null,null,null,null,0,0]
[39,{"$f":"'LISTA '!B43","v":0},{"$f":"'LISTA '!C43","v":0},0,0,null,null,null,null,null,null,null,0,null,null,null,null,0,0]
[40,{"$f":"'LISTA '!B44","v":0},{"$f":"'LISTA '!C44","v":0},0,0,null,null,null,null,null,null,null,0,null,null,null,null,0,0]
[41,{"$f":"'LISTA '!B45","v":0},{"$f":"'LISTA '!C45","v":0},0,0,null,null,null,null,null,null,null,0,null,null,null,null,0,0]
[42,{"$f":"'LISTA '!B46","v":0},{"$f":"'LISTA '!C46","v":0},0,0,null,null,null,null,null,null,null,0,null,null,null,null,0,0]
[43,{"$f":"'LISTA '!B47","v":0},{"$f":"'LISTA '!C47","v":0},0,0,null,null,null,null,null,null,null,0,null,null,null,null,0,0]
[44,{"$f":"'LISTA '!B48","v":0},{"$f":"'LISTA '!C48","v":0},0,0,null,null,null,null,null,null,null,0,null,null,null,null,0,0]
[45,{"$f":"'LISTA '!B49","v":0},{"$f":"'LISTA '!C49","v":0},0,0,null,null,null,null,null,null,null,0,null,null,null,null,0,0]
[46,{"$f":"'LISTA '!B50","v":0},{"$f":"'LISTA '!C50","v":0},0,0,null,null,null,null,null,null,null,0,null,null,null,null,0,0]
[47,{"$f":"'LISTA '!B51","v":0},{"$f":"'LISTA '!C51","v":0},0,0,null,null,null,null,null,null,null,0,null,null,null,null,0,0]
[48,{"$f":"'LISTA '!B52","v":0},{"$f":"'LISTA '!C52","v":0},0,0,null,null,null,null,null,null,null,0,null,null,null,null,0,0]
[49,{"$f":"'LISTA '!B53","v":0},{"$f":"'LISTA '!C53","v":0},0,0,null,null,null,null,null,null,null,0,null,null,null,null,0,0]
[50,{"$f":"'LISTA '!B54","v":0},{"$f":"'LISTA '!C54","v":0},0,0,null,null,null,null,null,null,null,0,null,null,null,null,0,0]
[null,"PROFESOR (A)",{"$f":"'DATOS GENERALES'!G13","v":0}]
[null,null,null,null,null,null,null,"ASISTENCIA MENSUAL",null,null,null,null,null,{"$f":"(SUM(N6:N55)/($C$4*N4))","v":0},{"$f":"(SUM(O6:O55)/($C$4*O4))","v":0},0,0]
[]
[]
[null,null,"PROMEDIOS PERIODO ",null,{"$f":"AVERAGE(E6:E55)","v":0},{"$f":"AVERAGE(F6:F55)","v":{"$error":"#DIV/0!"}},{"$error":"#DIV/0!"},{"$error":"#DIV/0!"},{"$error":"#DIV/0!"},{"$error":"#DIV/0!"},{"$error":"#DIV/0!"},{"$error":"#DIV/0!"},{"$f":"AVERAGE(M6:M55)","v":0},null,"ASISTENCIA PERIODO",null,null,null,{"$f":"AVERAGE(S6:S55)","v":0}]
[]
[]
[]
[]
[]
[null,"DISEÑADO POR : LUIS GILBERTO GRANADOS LARA"]

{"sheet":"3","index":4,"n_rows":66,"n_cols":21,"rows_kept":66,"cut":false,"hidden":false,"merged":[[3,17,3,18],[0,0,0,19],[1,2,1,7],[1,14,1,16],[2,2,2,7],[2,17,2,18],[11,20,18,21],[56,7,56,11],[57,14,57,15],[58,4,58,12],[59,14,59,17]]}
["CICLO  ESCOLAR  2020-2021"]
[null,"ESCUELA PRIMARIA ",{"$f":"'DATOS GENERALES'!G9","v":0},null,null,null,null,null,null,null,null,null,"GRUPO ",null,{"$f":"'DATOS GENERALES'!G12","v":0}]
[null,null,"TERCER PERIODO",null,null,null,null,null,null,null,null,null,null,null,"ASISTENCIAS",null,null,"TOTAL  "]
[null,"INGRESE CANTIDAD DE ALUMNOS",50,null,null,null,null,null,null,null,null,null,"INGRESE DÍAS HÁBILES POR MES",10,20,20,18,{"$f":"SUM(N4:Q4)","v":68}]
["Nº","CURP","NOMBRE  DEL  ALUMNO",null,"ESPAÑOL","MATEMÁTICAS","INGLES","CONOCIMIENTO DEL MEDIO","ARTES","EDUC FISICA","VIDA SALUDABLE","EDUCACIÓN CÍVICA","PROMEDIO","ABRIL","MAYO","JUNIO","JULIO","TOTAL ASISTENCIAS","% ASISTENCIA POR ALUMNO"]
[1,{"$f":"'LISTA '!B5","v":"GALL050523H"},{"$f":"'LISTA '!C5","v":0},{"$f":"B6","v":"GALL050523H"},0,null,null,null,null,null,null,null,{"$f":"IFERROR(AVERAGE(E6,F6,H6,I6,J6),\"ND\")","v":0},null,null,null,null,{"$f":"SUM(N6:Q6)","v":0},{"$f":"R6/$R$4","v":0}]
[2,{"$f":"'LISTA '!B6","v":"GALL050623H"},{"$f":"'LISTA '!C6","v":0},{"$f":"B7","v":"GALL050623H"},0,null,null,null,null,null,null,null,{"$f":"IFERROR(AVERAGE(E7,F7,H7,I7,J7),\"ND\")","v":0},null,null,null,null,{"$f":"SUM(N7:Q7)","v":0},{"$f":"R7/$R$4","v":0}]
[3,{"$f":"'LISTA '!B7","v":"GALL050525H"},{"$f":"'LISTA '!C7","v":0},"GALL050525H",0,null,null,null,null,null,null,null,0,null,null,null,null,0,0]
[4,{"$f":"'LISTA '!B8","v":"GALL050513H"},{"$f":"'LISTA '!C8","v":0},"GALL050513H",0,null,null,null,null,null,null,null,0,null,null,null,null,0,0]
[5,{"$f":"'LISTA '!B9","v":0},{"$f":"'LISTA '!C9","v":0},0,0,null,null,null,null,null,null,null,0,null,null,null,null,0,0]
[6,{"$f":"'LISTA '!B10","v":0},{"$f":"'LISTA '!C10","v":0},0,0,null,null,null,null,null,null,null,0,null,null,null,null,0,0]
[7,{"$f":"'LISTA '!B11","v":0},{"$f":"'LISTA '!C11","v":0},0,0,null,null,null,null,null,null,null,0,null,null,null,null,0,0,null,"NOTA: DEBE NOTIFICAR EN LAS CELDAS AMARILLAS LA CANTIDAD DE ALUMNOS Y DE DÍAS HÁBILES POR MES PARA UN CORRECTO CÁLCULO.\n**PUEDE ELIMINAR FILAS  Y NO SE ALTERARÁN LAS FÓRMULAS."]
[8,{"$f":"'LISTA '!B12","v":0},{"$f":"'LISTA '!C12","v":0},0,0,null,null,null,null,null,null,null,0,null,null,null,null,0,0]
[9,{"$f":"'LISTA '!B13","v":0},{"$f":"'LISTA '!C13","v":0},0,0,null,null,null,null,null,null,null,0,null,null,null,null,0,0]
[10,{"$f":"'LISTA '!B14","v":0},{"$f":"'LISTA '!C14","v":0},0,0,null,null,null,null,null,null,null,0,null,null,null,null,0,0]
[11,{"$f":"'LISTA '!B15","v":0},{"$f":"'LISTA '!C15","v":0},0,0,null,null,null,null,null,null,null,0,null,null,null,null,0,0]
[12,{"$f":"'LISTA '!B16","v":0},{"$f":"'LISTA '!C16","v":0},0,0,null,null,null,null,null,null,null,0,null,null,null,null,0,0]
[13,{"$f":"'LISTA '!B17","v":0},{"$f":"'LISTA '!C17","v":0},0,0,null,null,null,null,null,null,null,0,null,null,null,null,0,0]
[14,{"$f":"'LISTA '!B18","v":0},{"$f":"'LISTA '!C18","v":0},0,0,null,null,null,null,null,null,null,0,null,null,null,null,0,0]
[15,{"$f":"'LISTA '!B19","v":0},{"$f":"'LISTA '!C19","v":0},0,0,null,null,null,null,null,null,null,0,null,null,null,null,0,0]
[16,{"$f":"'LISTA '!B20","v":0},{"$f":"'LISTA '!C20","v":0},0,0,null,null,null,null,null,null,null,0,null,null,null,null,0,0]
[17,{"$f":"'LISTA '!B21","v":0},{"$f":"'LISTA '!C21","v":0},0,0,null,null,null,null,null,null,null,0,null,null,null,null,0,0]
[18,{"$f":"'LISTA '!B22","v":0},{"$f":"'LISTA '!C22","v":0},0,0,null,null,null,null,null,null,null,0,null,null,null,null,0,0]
[19,{"$f":"'LISTA '!B23","v":0},{"$f":"'LISTA '!C23","v":0},0,0,null,null,null,null,null,null,null,0,null,null,null,null,0,0]
[20,{"$f":"'LISTA '!B24","v":0},{"$f":"'LISTA '!C24","v":0},0,0,null,null,null,null,null,null,null,0,null,null,null,null,0,0]
[21,{"$f":"'LISTA '!B25","v":0},{"$f":"'LISTA '!C25","v":0},0,0,null,null,null,null,null,null,null,0,null,null,null,null,0,0]
[22,{"$f":"'LISTA '!B26","v":0},{"$f":"'LISTA '!C26","v":0},0,0,null,null,null,null,null,null,null,0,null,null,null,null,0,0]
[23,{"$f":"'LISTA '!B27","v":0},{"$f":"'LISTA '!C27","v":0},0,0,null,null,null,null,null,null,null,0,null,null,null,null,0,0]
[24,{"$f":"'LISTA '!B28","v":0},{"$f":"'LISTA '!C28","v":0},0,0,null,null,null,null,null,null,null,0,null,null,null,null,0,0]
[25,{"$f":"'LISTA '!B29","v":0},{"$f":"'LISTA '!C29","v":0},0,0,null,null,null,null,null,null,null,0,null,null,null,null,0,0]
[26,{"$f":"'LISTA '!B30","v":0},{"$f":"'LISTA '!C30","v":0},0,0,null,null,null,null,null,null,null,0,null,null,null,null,0,0]
[27,{"$f":"'LISTA '!B31","v":0},{"$f":"'LISTA '!C31","v":0},0,0,null,null,null,null,null,null,null,0,null,null,null,null,0,0]
[28,{"$f":"'LISTA '!B32","v":0},{"$f":"'LISTA '!C32","v":0},0,0,null,null,null,null,null,null,null,0,null,null,null,null,0,0]
[29,{"$f":"'LISTA '!B33","v":0},{"$f":"'LISTA '!C33","v":0},0,0,null,null,null,null,null,null,null,0,null,null,null,null,0,0]
[30,{"$f":"'LISTA '!B34","v":0},{"$f":"'LISTA '!C34","v":0},0,0,null,null,null,null,null,null,null,0,null,null,null,null,0,0]
[31,{"$f":"'LISTA '!B35","v":0},{"$f":"'LISTA '!C35","v":0},0,0,null,null,null,null,null,null,null,0,null,null,null,null,0,0]
[32,{"$f":"'LISTA '!B36","v":0},{"$f":"'LISTA '!C36","v":0},0,0,null,null,null,null,null,null,null,0,null,null,null,null,0,0]
[33,{"$f":"'LISTA '!B37","v":0},{"$f":"'LISTA '!C37","v":0},0,0,null,null,null,null,null,null,null,0,null,null,null,null,0,0]
[34,{"$f":"'LISTA '!B38","v":0},{"$f":"'LISTA '!C38","v":0},0,0,null,null,null,null,null,null,null,0,null,null,null,null,0,0]
[35,{"$f":"'LISTA '!B39","v":0},{"$f":"'LISTA '!C39","v":0},0,0,null,null,null,null,null,null,null,0,null,null,null,null,0,0]
[36,{"$f":"'LISTA '!B40","v":0},{"$f":"'LISTA '!C40","v":0},0,0,null,null,null,null,null,null,null,0,null,null,null,null,0,0]
[37,{"$f":"'LISTA '!B41","v":0},{"$f":"'LISTA '!C41","v":0},0,0,null,null,null,null,null,null,null,0,null,null,null,null,0,0]
[38,{"$f":"'LISTA '!B42","v":0},{"$f":"'LISTA '!C42","v":0},0,0,null,null,null,null,null,null,null,0,null,null,null,null,0,0]
[39,{"$f":"'LISTA '!B43","v":0},{"$f":"'LISTA '!C43","v":0},0,0,null,null,null,null,null,null,null,0,null,null,null,null,0,0]
[40,{"$f":"'LISTA '!B44","v":0},{"$f":"'LISTA '!C44","v":0},0,0,null,null,null,null,null,null,null,0,null,null,null,null,0,0]
[41,{"$f":"'LISTA '!B45","v":0},{"$f":"'LISTA '!C45","v":0},0,0,null,null,null,null,null,null,null,0,null,null,null,null,0,0]
[42,{"$f":"'LISTA '!B46","v":0},{"$f":"'LISTA '!C46","v":0},0,0,null,null,null,null,null,null,null,0,null,null,null,null,0,0]
[43,{"$f":"'LISTA '!B47","v":0},{"$f":"'LISTA '!C47","v":0},0,0,null,null,null,null,null,null,null,0,null,null,null,null,0,0]
[44,{"$f":"'LISTA '!B48","v":0},{"$f":"'LISTA '!C48","v":0},0,0,null,null,null,null,null,null,null,0,null,null,null,null,0,0]
[45,{"$f":"'LISTA '!B49","v":0},{"$f":"'LISTA '!C49","v":0},0,0,null,null,null,null,null,null,null,0,null,null,null,null,0,0]
[46,{"$f":"'LISTA '!B50","v":0},{"$f":"'LISTA '!C50","v":0},0,0,null,null,null,null,null,null,null,0,null,null,null,null,0,0]
[47,{"$f":"'LISTA '!B51","v":0},{"$f":"'LISTA '!C51","v":0},0,0,null,null,null,null,null,null,null,0,null,null,null,null,0,0]
[48,{"$f":"'LISTA '!B52","v":0},{"$f":"'LISTA '!C52","v":0},0,0,null,null,null,null,null,null,null,0,null,null,null,null,0,0]
[49,{"$f":"'LISTA '!B53","v":0},{"$f":"'LISTA '!C53","v":0},0,0,null,null,null,null,null,null,null,0,null,null,null,null,0,0]
[50,{"$f":"'LISTA '!B54","v":0},{"$f":"'LISTA '!C54","v":0},0,0,null,null,null,null,null,null,null,0,null,null,null,null,0,0]
[null,"PROFESOR (A)",{"$f":"'DATOS GENERALES'!G13","v":0}]
[null,null,null,null,null,null,null,"ASISTENCIA MENSUAL",null,null,null,null,null,{"$f":"(SUM(N6:N55)/($C$4*N4))","v":0},{"$f":"(SUM(O6:O55)/($C$4*O4))","v":0},0,0]
[]
[]
[null,null,"PROMEDIOS PERIODO ",null,{"$f":"AVERAGE(E6:E55)","v":0},{"$f":"AVERAGE(F6:F55)","v":{"$error":"#DIV/0!"}},{"$error":"#DIV/0!"},{"$error":"#DIV/0!"},{"$error":"#DIV/0!"},{"$error":"#DIV/0!"},{"$error":"#DIV/0!"},{"$error":"#DIV/0!"},{"$f":"AVERAGE(M6:M55)","v":0},null,"ASISTENCIA PERIODO",null,null,null,{"$f":"AVERAGE(S6:S55)","v":0}]
[]
[]
[]
[]
[]
[null,"DISEÑADO POR : LUIS GILBERTO GRANADOS LARA"]

{"sheet":"PROMEDIOS","index":5,"n_rows":62,"n_cols":15,"rows_kept":62,"cut":false,"hidden":false,"merged":[[11,16,18,17],[57,4,57,12],[0,0,0,15],[1,2,1,7],[2,2,2,7],[2,13,2,14],[3,13,3,14]]}
["CICLO  ESCOLAR 2020-2021"]
[null,"ESCUELA PRIMARIA ",{"$f":"'DATOS GENERALES'!G9","v":0},null,null,null,null,null,null,null,null,null,"GRUPO ",null,{"$f":"'DATOS GENERALES'!G12","v":0}]
[null,null,null,null,null,null,null,null,null,null,null,null,null,"TOTAL  "]
[null,"INGRESE CANTIDAD DE ALUMNOS",50,null,null,null,null,null,null,null,null,null,"DÍAS HÁBILES ",{"$f":"IFERROR(SUM('1'!R4:S4,'2'!R4:S4,'3'!R4:S4),\"SIN DATOS\")","v":202}]
["Nº","CURP","NOMBRE  DEL  ALUMNO",null,"ESPAÑOL","MATEMÁTICAS","INGLES","CONOCIMIENTO DEL MEDIO","ARTES","EDUC FISICA","VIDA SALUDABLE","EDUCACIÓN CÍVICA","PROMEDIO","TOTAL ASISTENCIAS","% ASISTENCIA POR ALUMNO"]
[1,{"$f":"'LISTA '!B5","v":"GALL050523H"},{"$f":"'LISTA '!C5","v":0},{"$f":"B6","v":"GALL050523H"},{"$f":"IFERROR(AVERAGE('1'!E6,'2'!E6,'3'!E6),\"ND\")","v":0},{"$f":"IFERROR(AVERAGE('1'!F6,'2'!F6,'3'!F6),\"ND\")","v":"ND"},{"$f":"IFERROR(AVERAGE('1'!G6,'2'!G6,'3'!G6),\"ND\")","v":"ND"},{"$f":"IFERROR(AVERAGE('1'!H6,'2'!H6,'3'!H6),\"ND\")","v":"ND"},{"$f":"IFERROR(AVERAGE('1'!I6,'2'!I6,'3'!I6),\"ND\")","v":"ND"},{"$f":"IFERROR(AVERAGE('1'!J6,'2'!J6,'3'!J6),\"ND\")","v":"ND"},{"$f":"IFERROR(AVERAGE('1'!K6,'2'!K6,'3'!K6),\"ND\")","v":"ND"},{"$f":"IFERROR(AVERAGE('1'!L6,'2'!L6,'3'!L6),\"ND\")","v":"ND"},{"$f":"IFERROR(AVERAGE(E6,F6,H6,I6,J6),\"ND\")","v":0},{"$f":"'1'!R6+'2'!R6+'3'!R6","v":0},{"$f":"N6/$N$4","v":0}]
[2,{"$f":"'LISTA '!B6","v":"GALL050623H"},{"$f":"'LISTA '!C6","v":0},{"$f":"B7","v":"GALL050623H"},{"$f":"IFERROR(AVERAGE('1'!E7,'2'!E7,'3'!E7),\"ND\")","v":0},{"$f":"IFERROR(AVERAGE('1'!F7,'2'!F7,'3'!F7),\"ND\")","v":"ND"},{"$f":"IFERROR(AVERAGE('1'!G7,'2'!G7,'3'!G7),\"ND\")","v":"ND"},{"$f":"IFERROR(AVERAGE('1'!H7,'2'!H7,'3'!H7),\"ND\")","v":"ND"},{"$f":"IFERROR(AVERAGE('1'!I7,'2'!I7,'3'!I7),\"ND\")","v":"ND"},{"$f":"IFERROR(AVERAGE('1'!J7,'2'!J7,'3'!J7),\"ND\")","v":"ND"},{"$f":"IFERROR(AVERAGE('1'!K7,'2'!K7,'3'!K7),\"ND\")","v":"ND"},{"$f":"IFERROR(AVERAGE('1'!L7,'2'!L7,'3'!L7),\"ND\")","v":"ND"},{"$f":"IFERROR(AVERAGE(E7,F7,H7,I7,J7),\"ND\")","v":0},{"$f":"'1'!R7+'2'!R7+'3'!R7","v":0},{"$f":"N7/$N$4","v":0}]
[3,{"$f":"'LISTA '!B7","v":"GALL050525H"},{"$f":"'LISTA '!C7","v":0},"GALL050525H",{"$f":"IFERROR(AVERAGE('1'!E8,'2'!E8,'3'!E8),\"ND\")","v":0},{"$f":"IFERROR(AVERAGE('1'!F8,'2'!F8,'3'!F8),\"ND\")","v":"ND"},{"$f":"IFERROR(AVERAGE('1'!G8,'2'!G8,'3'!G8),\"ND\")","v":"ND"},{"$f":"IFERROR(AVERAGE('1'!H8,'2'!H8,'3'!H8),\"ND\")","v":"ND"},{"$f":"IFERROR(AVERAGE('1'!I8,'2'!I8,'3'!I8),\"ND\")","v":"ND"},{"$f":"IFERROR(AVERAGE('1'!J8,'2'!J8,'3'!J8),\"ND\")","v":"ND"},{"$f":"IFERROR(AVERAGE('1'!K8,'2'!K8,'3'!K8),\"ND\")","v":"ND"},{"$f":"IFERROR(AVERAGE('1'!L8,'2'!L8,'3'!L8),\"ND\")","v":"ND"},0,{"$f":"'1'!R8+'2'!R8+'3'!R8","v":0},0]
[4,{"$f":"'LISTA '!B8","v":"GALL050513H"},{"$f":"'LISTA '!C8","v":0},"GALL050513H",{"$f":"IFERROR(AVERAGE('1'!E9,'2'!E9,'3'!E9),\"ND\")","v":0},{"$f":"IFERROR(AVERAGE('1'!F9,'2'!F9,'3'!F9),\"ND\")","v":"ND"},{"$f":"IFERROR(AVERAGE('1'!G9,'2'!G9,'3'!G9),\"ND\")","v":"ND"},{"$f":"IFERROR(AVERAGE('1'!H9,'2'!H9,'3'!H9),\"ND\")","v":"ND"},{"$f":"IFERROR(AVERAGE('1'!I9,'2'!I9,'3'!I9),\"ND\")","v":"ND"},{"$f":"IFERROR(AVERAGE('1'!J9,'2'!J9,'3'!J9),\"ND\")","v":"ND"},{"$f":"IFERROR(AVERAGE('1'!K9,'2'!K9,'3'!K9),\"ND\")","v":"ND"},{"$f":"IFERROR(AVERAGE('1'!L9,'2'!L9,'3'!L9),\"ND\")","v":"ND"},0,{"$f":"'1'!R9+'2'!R9+'3'!R9","v":0},0]
[5,{"$f":"'LISTA '!B9","v":0},{"$f":"'LISTA '!C9","v":0},0,{"$f":"IFERROR(AVERAGE('1'!E10,'2'!E10,'3'!E10),\"ND\")","v":0},{"$f":"IFERROR(AVERAGE('1'!F10,'2'!F10,'3'!F10),\"ND\")","v":"ND"},{"$f":"IFERROR(AVERAGE('1'!G10,'2'!G10,'3'!G10),\"ND\")","v":"ND"},{"$f":"IFERROR(AVERAGE('1'!H10,'2'!H10,'3'!H10),\"ND\")","v":"ND"},{"$f":"IFERROR(AVERAGE('1'!I10,'2'!I10,'3'!I10),\"ND\")","v":"ND"},{"$f":"IFERROR(AVERAGE('1'!J10,'2'!J10,'3'!J10),\"ND\")","v":"ND"},{"$f":"IFERROR(AVERAGE('1'!K10,'2'!K10,'3'!K10),\"ND\")","v":"ND"},{"$f":"IFERROR(AVERAGE('1'!L10,'2'!L10,'3'!L10),\"ND\")","v":"ND"},0,{"$f":"'1'!R10+'2'!R10+'3'!R10","v":0},0]
[6,{"$f":"'LISTA '!B10","v":0},{"$f":"'LISTA '!C10","v":0},0,{"$f":"IFERROR(AVERAGE('1'!E11,'2'!E11,'3'!E11),\"ND\")","v":0},{"$f":"IFERROR(AVERAGE('1'!F11,'2'!F11,'3'!F11),\"ND\")","v":"ND"},{"$f":"IFERROR(AVERAGE('1'!G11,'2'!G11,'3'!G11),\"ND\")","v":"ND"},{"$f":"IFERROR(AVERAGE('1'!H11,'2'!H11,'3'!H11),\"ND\")","v":"ND"},{"$f":"IFERROR(AVERAGE('1'!I11,'2'!I11,'3'!I11),\"ND\")","v":"ND"},{"$f":"IFERROR(AVERAGE('1'!J11,'2'!J11,'3'!J11),\"ND\")","v":"ND"},{"$f":"IFERROR(AVERAGE('1'!K11,'2'!K11,'3'!K11),\"ND\")","v":"ND"},{"$f":"IFERROR(AVERAGE('1'!L11,'2'!L11,'3'!L11),\"ND\")","v":"ND"},0,{"$f":"'1'!R11+'2'!R11+'3'!R11","v":0},0]
[7,{"$f":"'LISTA '!B11","v":0},{"$f":"'LISTA '!C11","v":0},0,{"$f":"IFERROR(AVERAGE('1'!E12,'2'!E12,'3'!E12),\"ND\")","v":0},{"$f":"IFERROR(AVERAGE('1'!F12,'2'!F12,'3'!F12),\"ND\")","v":"ND"},{"$f":"IFERROR(AVERAGE('1'!G12,'2'!G12,'3'!G12),\"ND\")","v":"ND"},{"$f":"IFERROR(AVERAGE('1'!H12,'2'!H12,'3'!H12),\"ND\")","v":"ND"},{"$f":"IFERROR(AVERAGE('1'!I12,'2'!I12,'3'!I12),\"ND\")","v":"ND"},{"$f":"IFERROR(AVERAGE('1'!J12,'2'!J12,'3'!J12),\"ND\")","v":"ND"},{"$f":"IFERROR(AVERAGE('1'!K12,'2'!K12,'3'!K12),\"ND\")","v":"ND"},{"$f":"IFERROR(AVERAGE('1'!L12,'2'!L12,'3'!L12),\"ND\")","v":"ND"},0,{"$f":"'1'!R12+'2'!R12+'3'!R12","v":0},0]
[8,{"$f":"'LISTA '!B12","v":0},{"$f":"'LISTA '!C12","v":0},0,{"$f":"IFERROR(AVERAGE('1'!E13,'2'!E13,'3'!E13),\"ND\")","v":0},{"$f":"IFERROR(AVERAGE('1'!F13,'2'!F13,'3'!F13),\"ND\")","v":"ND"},{"$f":"IFERROR(AVERAGE('1'!G13,'2'!G13,'3'!G13),\"ND\")","v":"ND"},{"$f":"IFERROR(AVERAGE('1'!H13,'2'!H13,'3'!H13),\"ND\")","v":"ND"},{"$f":"IFERROR(AVERAGE('1'!I13,'2'!I13,'3'!I13),\"ND\")","v":"ND"},{"$f":"IFERROR(AVERAGE('1'!J13,'2'!J13,'3'!J13),\"ND\")","v":"ND"},{"$f":"IFERROR(AVERAGE('1'!K13,'2'!K13,'3'!K13),\"ND\")","v":"ND"},{"$f":"IFERROR(AVERAGE('1'!L13,'2'!L13,'3'!L13),\"ND\")","v":"ND"},0,{"$f":"'1'!R13+'2'!R13+'3'!R13","v":0},0]
[9,{"$f":"'LISTA '!B13","v":0},{"$f":"'LISTA '!C13","v":0},0,{"$f":"IFERROR(AVERAGE('1'!E14,'2'!E14,'3'!E14),\"ND\")","v":0},{"$f":"IFERROR(AVERAGE('1'!F14,'2'!F14,'3'!F14),\"ND\")","v":"ND"},{"$f":"IFERROR(AVERAGE('1'!G14,'2'!G14,'3'!G14),\"ND\")","v":"ND"},{"$f":"IFERROR(AVERAGE('1'!H14,'2'!H14,'3'!H14),\"ND\")","v":"ND"},{"$f":"IFERROR(AVERAGE('1'!I14,'2'!I14,'3'!I14),\"ND\")","v":"ND"},{"$f":"IFERROR(AVERAGE('1'!J14,'2'!J14,'3'!J14),\"ND\")","v":"ND"},{"$f":"IFERROR(AVERAGE('1'!K14,'2'!K14,'3'!K14),\"ND\")","v":"ND"},{"$f":"IFERROR(AVERAGE('1'!L14,'2'!L14,'3'!L14),\"ND\")","v":"ND"},0,{"$f":"'1'!R14+'2'!R14+'3'!R14","v":0},0]
[10,{"$f":"'LISTA '!B14","v":0},{"$f":"'LISTA '!C14","v":0},0,{"$f":"IFERROR(AVERAGE('1'!E15,'2'!E15,'3'!E15),\"ND\")","v":0},{"$f":"IFERROR(AVERAGE('1'!F15,'2'!F15,'3'!F15),\"ND\")","v":"ND"},{"$f":"IFERROR(AVERAGE('1'!G15,'2'!G15,'3'!G15),\"ND\")","v":"ND"},{"$f":"IFERROR(AVERAGE('1'!H15,'2'!H15,'3'!H15),\"ND\")","v":"ND"},{"$f":"IFERROR(AVERAGE('1'!I15,'2'!I15,'3'!I15),\"ND\")","v":"ND"},{"$f":"IFERROR(AVERAGE('1'!J15,'2'!J15,'3'!J15),\"ND\")","v":"ND"},{"$f":"IFERROR(AVERAGE('1'!K15,'2'!K15,'3'!K15),\"ND\")","v":"ND"},{"$f":"IFERROR(AVERAGE('1'!L15,'2'!L15,'3'!L15),\"ND\")","v":"ND"},0,{"$f":"'1'!R15+'2'!R15+'3'!R15","v":0},0]
[11,{"$f":"'LISTA '!B15","v":0},{"$f":"'LISTA '!C15","v":0},0,{"$f":"IFERROR(AVERAGE('1'!E16,'2'!E16,'3'!E16),\"ND\")","v":0},{"$f":"IFERROR(AVERAGE('1'!F16,'2'!F16,'3'!F16),\"ND\")","v":"ND"},{"$f":"IFERROR(AVERAGE('1'!G16,'2'!G16,'3'!G16),\"ND\")","v":"ND"},{"$f":"IFERROR(AVERAGE('1'!H16,'2'!H16,'3'!H16),\"ND\")","v":"ND"},{"$f":"IFERROR(AVERAGE('1'!I16,'2'!I16,'3'!I16),\"ND\")","v":"ND"},{"$f":"IFERROR(AVERAGE('1'!J16,'2'!J16,'3'!J16),\"ND\")","v":"ND"},{"$f":"IFERROR(AVERAGE('1'!K16,'2'!K16,'3'!K16),\"ND\")","v":"ND"},{"$f":"IFERROR(AVERAGE('1'!L16,'2'!L16,'3'!L16),\"ND\")","v":"ND"},0,{"$f":"'1'!R16+'2'!R16+'3'!R16","v":0},0]
[12,{"$f":"'LISTA '!B16","v":0},{"$f":"'LISTA '!C16","v":0},0,{"$f":"IFERROR(AVERAGE('1'!E17,'2'!E17,'3'!E17),\"ND\")","v":0},{"$f":"IFERROR(AVERAGE('1'!F17,'2'!F17,'3'!F17),\"ND\")","v":"ND"},{"$f":"IFERROR(AVERAGE('1'!G17,'2'!G17,'3'!G17),\"ND\")","v":"ND"},{"$f":"IFERROR(AVERAGE('1'!H17,'2'!H17,'3'!H17),\"ND\")","v":"ND"},{"$f":"IFERROR(AVERAGE('1'!I17,'2'!I17,'3'!I17),\"ND\")","v":"ND"},{"$f":"IFERROR(AVERAGE('1'!J17,'2'!J17,'3'!J17),\"ND\")","v":"ND"},{"$f":"IFERROR(AVERAGE('1'!K17,'2'!K17,'3'!K17),\"ND\")","v":"ND"},{"$f":"IFERROR(AVERAGE('1'!L17,'2'!L17,'3'!L17),\"ND\")","v":"ND"},0,{"$f":"'1'!R17+'2'!R17+'3'!R17","v":0},0]
[13,{"$f":"'LISTA '!B17","v":0},{"$f":"'LISTA '!C17","v":0},0,{"$f":"IFERROR(AVERAGE('1'!E18,'2'!E18,'3'!E18),\"ND\")","v":0},{"$f":"IFERROR(AVERAGE('1'!F18,'2'!F18,'3'!F18),\"ND\")","v":"ND"},{"$f":"IFERROR(AVERAGE('1'!G18,'2'!G18,'3'!G18),\"ND\")","v":"ND"},{"$f":"IFERROR(AVERAGE('1'!H18,'2'!H18,'3'!H18),\"ND\")","v":"ND"},{"$f":"IFERROR(AVERAGE('1'!I18,'2'!I18,'3'!I18),\"ND\")","v":"ND"},{"$f":"IFERROR(AVERAGE('1'!J18,'2'!J18,'3'!J18),\"ND\")","v":"ND"},{"$f":"IFERROR(AVERAGE('1'!K18,'2'!K18,'3'!K18),\"ND\")","v":"ND"},{"$f":"IFERROR(AVERAGE('1'!L18,'2'!L18,'3'!L18),\"ND\")","v":"ND"},0,{"$f":"'1'!R18+'2'!R18+'3'!R18","v":0},0]
[14,{"$f":"'LISTA '!B18","v":0},{"$f":"'LISTA '!C18","v":0},0,{"$f":"IFERROR(AVERAGE('1'!E19,'2'!E19,'3'!E19),\"ND\")","v":0},{"$f":"IFERROR(AVERAGE('1'!F19,'2'!F19,'3'!F19),\"ND\")","v":"ND"},{"$f":"IFERROR(AVERAGE('1'!G19,'2'!G19,'3'!G19),\"ND\")","v":"ND"},{"$f":"IFERROR(AVERAGE('1'!H19,'2'!H19,'3'!H19),\"ND\")","v":"ND"},{"$f":"IFERROR(AVERAGE('1'!I19,'2'!I19,'3'!I19),\"ND\")","v":"ND"},{"$f":"IFERROR(AVERAGE('1'!J19,'2'!J19,'3'!J19),\"ND\")","v":"ND"},{"$f":"IFERROR(AVERAGE('1'!K19,'2'!K19,'3'!K19),\"ND\")","v":"ND"},{"$f":"IFERROR(AVERAGE('1'!L19,'2'!L19,'3'!L19),\"ND\")","v":"ND"},0,{"$f":"'1'!R19+'2'!R19+'3'!R19","v":0},0]
[15,{"$f":"'LISTA '!B19","v":0},{"$f":"'LISTA '!C19","v":0},0,{"$f":"IFERROR(AVERAGE('1'!E20,'2'!E20,'3'!E20),\"ND\")","v":0},{"$f":"IFERROR(AVERAGE('1'!F20,'2'!F20,'3'!F20),\"ND\")","v":"ND"},{"$f":"IFERROR(AVERAGE('1'!G20,'2'!G20,'3'!G20),\"ND\")","v":"ND"},{"$f":"IFERROR(AVERAGE('1'!H20,'2'!H20,'3'!H20),\"ND\")","v":"ND"},{"$f":"IFERROR(AVERAGE('1'!I20,'2'!I20,'3'!I20),\"ND\")","v":"ND"},{"$f":"IFERROR(AVERAGE('1'!J20,'2'!J20,'3'!J20),\"ND\")","v":"ND"},{"$f":"IFERROR(AVERAGE('1'!K20,'2'!K20,'3'!K20),\"ND\")","v":"ND"},{"$f":"IFERROR(AVERAGE('1'!L20,'2'!L20,'3'!L20),\"ND\")","v":"ND"},0,{"$f":"'1'!R20+'2'!R20+'3'!R20","v":0},0]
[16,{"$f":"'LISTA '!B20","v":0},{"$f":"'LISTA '!C20","v":0},0,{"$f":"IFERROR(AVERAGE('1'!E21,'2'!E21,'3'!E21),\"ND\")","v":0},{"$f":"IFERROR(AVERAGE('1'!F21,'2'!F21,'3'!F21),\"ND\")","v":"ND"},{"$f":"IFERROR(AVERAGE('1'!G21,'2'!G21,'3'!G21),\"ND\")","v":"ND"},{"$f":"IFERROR(AVERAGE('1'!H21,'2'!H21,'3'!H21),\"ND\")","v":"ND"},{"$f":"IFERROR(AVERAGE('1'!I21,'2'!I21,'3'!I21),\"ND\")","v":"ND"},{"$f":"IFERROR(AVERAGE('1'!J21,'2'!J21,'3'!J21),\"ND\")","v":"ND"},{"$f":"IFERROR(AVERAGE('1'!K21,'2'!K21,'3'!K21),\"ND\")","v":"ND"},{"$f":"IFERROR(AVERAGE('1'!L21,'2'!L21,'3'!L21),\"ND\")","v":"ND"},0,{"$f":"'1'!R21+'2'!R21+'3'!R21","v":0},0]
[17,{"$f":"'LISTA '!B21","v":0},{"$f":"'LISTA '!C21","v":0},0,{"$f":"IFERROR(AVERAGE('1'!E22,'2'!E22,'3'!E22),\"ND\")","v":0},{"$f":"IFERROR(AVERAGE('1'!F22,'2'!F22,'3'!F22),\"ND\")","v":"ND"},{"$f":"IFERROR(AVERAGE('1'!G22,'2'!G22,'3'!G22),\"ND\")","v":"ND"},{"$f":"IFERROR(AVERAGE('1'!H22,'2'!H22,'3'!H22),\"ND\")","v":"ND"},{"$f":"IFERROR(AVERAGE('1'!I22,'2'!I22,'3'!I22),\"ND\")","v":"ND"},{"$f":"IFERROR(AVERAGE('1'!J22,'2'!J22,'3'!J22),\"ND\")","v":"ND"},{"$f":"IFERROR(AVERAGE('1'!K22,'2'!K22,'3'!K22),\"ND\")","v":"ND"},{"$f":"IFERROR(AVERAGE('1'!L22,'2'!L22,'3'!L22),\"ND\")","v":"ND"},0,{"$f":"'1'!R22+'2'!R22+'3'!R22","v":0},0]
[18,{"$f":"'LISTA '!B22","v":0},{"$f":"'LISTA '!C22","v":0},0,{"$f":"IFERROR(AVERAGE('1'!E23,'2'!E23,'3'!E23),\"ND\")","v":0},{"$f":"IFERROR(AVERAGE('1'!F23,'2'!F23,'3'!F23),\"ND\")","v":"ND"},{"$f":"IFERROR(AVERAGE('1'!G23,'2'!G23,'3'!G23),\"ND\")","v":"ND"},{"$f":"IFERROR(AVERAGE('1'!H23,'2'!H23,'3'!H23),\"ND\")","v":"ND"},{"$f":"IFERROR(AVERAGE('1'!I23,'2'!I23,'3'!I23),\"ND\")","v":"ND"},{"$f":"IFERROR(AVERAGE('1'!J23,'2'!J23,'3'!J23),\"ND\")","v":"ND"},{"$f":"IFERROR(AVERAGE('1'!K23,'2'!K23,'3'!K23),\"ND\")","v":"ND"},{"$f":"IFERROR(AVERAGE('1'!L23,'2'!L23,'3'!L23),\"ND\")","v":"ND"},0,{"$f":"'1'!R23+'2'!R23+'3'!R23","v":0},0]
[19,{"$f":"'LISTA '!B23","v":0},{"$f":"'LISTA '!C23","v":0},0,{"$f":"IFERROR(AVERAGE('1'!E24,'2'!E24,'3'!E24),\"ND\")","v":0},{"$f":"IFERROR(AVERAGE('1'!F24,'2'!F24,'3'!F24),\"ND\")","v":"ND"},{"$f":"IFERROR(AVERAGE('1'!G24,'2'!G24,'3'!G24),\"ND\")","v":"ND"},{"$f":"IFERROR(AVERAGE('1'!H24,'2'!H24,'3'!H24),\"ND\")","v":"ND"},{"$f":"IFERROR(AVERAGE('1'!I24,'2'!I24,'3'!I24),\"ND\")","v":"ND"},{"$f":"IFERROR(AVERAGE('1'!J24,'2'!J24,'3'!J24),\"ND\")","v":"ND"},{"$f":"IFERROR(AVERAGE('1'!K24,'2'!K24,'3'!K24),\"ND\")","v":"ND"},{"$f":"IFERROR(AVERAGE('1'!L24,'2'!L24,'3'!L24),\"ND\")","v":"ND"},0,{"$f":"'1'!R24+'2'!R24+'3'!R24","v":0},0]
[20,{"$f":"'LISTA '!B24","v":0},{"$f":"'LISTA '!C24","v":0},0,{"$f":"IFERROR(AVERAGE('1'!E25,'2'!E25,'3'!E25),\"ND\")","v":0},{"$f":"IFERROR(AVERAGE('1'!F25,'2'!F25,'3'!F25),\"ND\")","v":"ND"},{"$f":"IFERROR(AVERAGE('1'!G25,'2'!G25,'3'!G25),\"ND\")","v":"ND"},{"$f":"IFERROR(AVERAGE('1'!H25,'2'!H25,'3'!H25),\"ND\")","v":"ND"},{"$f":"IFERROR(AVERAGE('1'!I25,'2'!I25,'3'!I25),\"ND\")","v":"ND"},{"$f":"IFERROR(AVERAGE('1'!J25,'2'!J25,'3'!J25),\"ND\")","v":"ND"},{"$f":"IFERROR(AVERAGE('1'!K25,'2'!K25,'3'!K25),\"ND\")","v":"ND"},{"$f":"IFERROR(AVERAGE('1'!L25,'2'!L25,'3'!L25),\"ND\")","v":"ND"},0,{"$f":"'1'!R25+'2'!R25+'3'!R25","v":0},0]
[21,{"$f":"'LISTA '!B25","v":0},{"$f":"'LISTA '!C25","v":0},0,{"$f":"IFERROR(AVERAGE('1'!E26,'2'!E26,'3'!E26),\"ND\")","v":0},{"$f":"IFERROR(AVERAGE('1'!F26,'2'!F26,'3'!F26),\"ND\")","v":"ND"},{"$f":"IFERROR(AVERAGE('1'!G26,'2'!G26,'3'!G26),\"ND\")","v":"ND"},{"$f":"IFERROR(AVERAGE('1'!H26,'2'!H26,'3'!H26),\"ND\")","v":"ND"},{"$f":"IFERROR(AVERAGE('1'!I26,'2'!I26,'3'!I26),\"ND\")","v":"ND"},{"$f":"IFERROR(AVERAGE('1'!J26,'2'!J26,'3'!J26),\"ND\")","v":"ND"},{"$f":"IFERROR(AVERAGE('1'!K26,'2'!K26,'3'!K26),\"ND\")","v":"ND"},{"$f":"IFERROR(AVERAGE('1'!L26,'2'!L26,'3'!L26),\"ND\")","v":"ND"},0,{"$f":"'1'!R26+'2'!R26+'3'!R26","v":0},0]
[22,{"$f":"'LISTA '!B26","v":0},{"$f":"'LISTA '!C26","v":0},0,{"$f":"IFERROR(AVERAGE('1'!E27,'2'!E27,'3'!E27),\"ND\")","v":0},{"$f":"IFERROR(AVERAGE('1'!F27,'2'!F27,'3'!F27),\"ND\")","v":"ND"},{"$f":"IFERROR(AVERAGE('1'!G27,'2'!G27,'3'!G27),\"ND\")","v":"ND"},{"$f":"IFERROR(AVERAGE('1'!H27,'2'!H27,'3'!H27),\"ND\")","v":"ND"},{"$f":"IFERROR(AVERAGE('1'!I27,'2'!I27,'3'!I27),\"ND\")","v":"ND"},{"$f":"IFERROR(AVERAGE('1'!J27,'2'!J27,'3'!J27),\"ND\")","v":"ND"},{"$f":"IFERROR(AVERAGE('1'!K27,'2'!K27,'3'!K27),\"ND\")","v":"ND"},{"$f":"IFERROR(AVERAGE('1'!L27,'2'!L27,'3'!L27),\"ND\")","v":"ND"},0,{"$f":"'1'!R27+'2'!R27+'3'!R27","v":0},0]
[23,{"$f":"'LISTA '!B27","v":0},{"$f":"'LISTA '!C27","v":0},0,{"$f":"IFERROR(AVERAGE('1'!E28,'2'!E28,'3'!E28),\"ND\")","v":0},{"$f":"IFERROR(AVERAGE('1'!F28,'2'!F28,'3'!F28),\"ND\")","v":"ND"},{"$f":"IFERROR(AVERAGE('1'!G28,'2'!G28,'3'!G28),\"ND\")","v":"ND"},{"$f":"IFERROR(AVERAGE('1'!H28,'2'!H28,'3'!H28),\"ND\")","v":"ND"},{"$f":"IFERROR(AVERAGE('1'!I28,'2'!I28,'3'!I28),\"ND\")","v":"ND"},{"$f":"IFERROR(AVERAGE('1'!J28,'2'!J28,'3'!J28),\"ND\")","v":"ND"},{"$f":"IFERROR(AVERAGE('1'!K28,'2'!K28,'3'!K28),\"ND\")","v":"ND"},{"$f":"IFERROR(AVERAGE('1'!L28,'2'!L28,'3'!L28),\"ND\")","v":"ND"},0,{"$f":"'1'!R28+'2'!R28+'3'!R28","v":0},0]
[24,{"$f":"'LISTA '!B28","v":0},{"$f":"'LISTA '!C28","v":0},0,{"$f":"IFERROR(AVERAGE('1'!E29,'2'!E29,'3'!E29),\"ND\")","v":0},{"$f":"IFERROR(AVERAGE('1'!F29,'2'!F29,'3'!F29),\"ND\")","v":"ND"},{"$f":"IFERROR(AVERAGE('1'!G29,'2'!G29,'3'!G29),\"ND\")","v":"ND"},{"$f":"IFERROR(AVERAGE('1'!H29,'2'!H29,'3'!H29),\"ND\")","v":"ND"},{"$f":"IFERROR(AVERAGE('1'!I29,'2'!I29,'3'!I29),\"ND\")","v":"ND"},{"$f":"IFERROR(AVERAGE('1'!J29,'2'!J29,'3'!J29),\"ND\")","v":"ND"},{"$f":"IFERROR(AVERAGE('1'!K29,'2'!K29,'3'!K29),\"ND\")","v":"ND"},{"$f":"IFERROR(AVERAGE('1'!L29,'2'!L29,'3'!L29),\"ND\")","v":"ND"},0,{"$f":"'1'!R29+'2'!R29+'3'!R29","v":0},0]
[25,{"$f":"'LISTA '!B29","v":0},{"$f":"'LISTA '!C29","v":0},0,{"$f":"IFERROR(AVERAGE('1'!E30,'2'!E30,'3'!E30),\"ND\")","v":0},{"$f":"IFERROR(AVERAGE('1'!F30,'2'!F30,'3'!F30),\"ND\")","v":"ND"},{"$f":"IFERROR(AVERAGE('1'!G30,'2'!G30,'3'!G30),\"ND\")","v":"ND"},{"$f":"IFERROR(AVERAGE('1'!H30,'2'!H30,'3'!H30),\"ND\")","v":"ND"},{"$f":"IFERROR(AVERAGE('1'!I30,'2'!I30,'3'!I30),\"ND\")","v":"ND"},{"$f":"IFERROR(AVERAGE('1'!J30,'2'!J30,'3'!J30),\"ND\")","v":"ND"},{"$f":"IFERROR(AVERAGE('1'!K30,'2'!K30,'3'!K30),\"ND\")","v":"ND"},{"$f":"IFERROR(AVERAGE('1'!L30,'2'!L30,'3'!L30),\"ND\")","v":"ND"},0,{"$f":"'1'!R30+'2'!R30+'3'!R30","v":0},0]
[26,{"$f":"'LISTA '!B30","v":0},{"$f":"'LISTA '!C30","v":0},0,{"$f":"IFERROR(AVERAGE('1'!E31,'2'!E31,'3'!E31),\"ND\")","v":0},{"$f":"IFERROR(AVERAGE('1'!F31,'2'!F31,'3'!F31),\"ND\")","v":"ND"},{"$f":"IFERROR(AVERAGE('1'!G31,'2'!G31,'3'!G31),\"ND\")","v":"ND"},{"$f":"IFERROR(AVERAGE('1'!H31,'2'!H31,'3'!H31),\"ND\")","v":"ND"},{"$f":"IFERROR(AVERAGE('1'!I31,'2'!I31,'3'!I31),\"ND\")","v":"ND"},{"$f":"IFERROR(AVERAGE('1'!J31,'2'!J31,'3'!J31),\"ND\")","v":"ND"},{"$f":"IFERROR(AVERAGE('1'!K31,'2'!K31,'3'!K31),\"ND\")","v":"ND"},{"$f":"IFERROR(AVERAGE('1'!L31,'2'!L31,'3'!L31),\"ND\")","v":"ND"},0,{"$f":"'1'!R31+'2'!R31+'3'!R31","v":0},0]
[27,{"$f":"'LISTA '!B31","v":0},{"$f":"'LISTA '!C31","v":0},0,{"$f":"IFERROR(AVERAGE('1'!E32,'2'!E32,'3'!E32),\"ND\")","v":0},{"$f":"IFERROR(AVERAGE('1'!F32,'2'!F32,'3'!F32),\"ND\")","v":"ND"},{"$f":"IFERROR(AVERAGE('1'!G32,'2'!G32,'3'!G32),\"ND\")","v":"ND"},{"$f":"IFERROR(AVERAGE('1'!H32,'2'!H32,'3'!H32),\"ND\")","v":"ND"},{"$f":"IFERROR(AVERAGE('1'!I32,'2'!I32,'3'!I32),\"ND\")","v":"ND"},{"$f":"IFERROR(AVERAGE('1'!J32,'2'!J32,'3'!J32),\"ND\")","v":"ND"},{"$f":"IFERROR(AVERAGE('1'!K32,'2'!K32,'3'!K32),\"ND\")","v":"ND"},{"$f":"IFERROR(AVERAGE('1'!L32,'2'!L32,'3'!L32),\"ND\")","v":"ND"},0,{"$f":"'1'!R32+'2'!R32+'3'!R32","v":0},0]
[28,{"$f":"'LISTA '!B32","v":0},{"$f":"'LISTA '!C32","v":0},0,{"$f":"IFERROR(AVERAGE('1'!E33,'2'!E33,'3'!E33),\"ND\")","v":0},{"$f":"IFERROR(AVERAGE('1'!F33,'2'!F33,'3'!F33),\"ND\")","v":"ND"},{"$f":"IFERROR(AVERAGE('1'!G33,'2'!G33,'3'!G33),\"ND\")","v":"ND"},{"$f":"IFERROR(AVERAGE('1'!H33,'2'!H33,'3'!H33),\"ND\")","v":"ND"},{"$f":"IFERROR(AVERAGE('1'!I33,'2'!I33,'3'!I33),\"ND\")","v":"ND"},{"$f":"IFERROR(AVERAGE('1'!J33,'2'!J33,'3'!J33),\"ND\")","v":"ND"},{"$f":"IFERROR(AVERAGE('1'!K33,'2'!K33,'3'!K33),\"ND\")","v":"ND"},{"$f":"IFERROR(AVERAGE('1'!L33,'2'!L33,'3'!L33),\"ND\")","v":"ND"},0,{"$f":"'1'!R33+'2'!R33+'3'!R33","v":0},0]
[29,{"$f":"'LISTA '!B33","v":0},{"$f":"'LISTA '!C33","v":0},0,{"$f":"IFERROR(AVERAGE('1'!E34,'2'!E34,'3'!E34),\"ND\")","v":0},{"$f":"IFERROR(AVERAGE('1'!F34,'2'!F34,'3'!F34),\"ND\")","v":"ND"},{"$f":"IFERROR(AVERAGE('1'!G34,'2'!G34,'3'!G34),\"ND\")","v":"ND"},{"$f":"IFERROR(AVERAGE('1'!H34,'2'!H34,'3'!H34),\"ND\")","v":"ND"},{"$f":"IFERROR(AVERAGE('1'!I34,'2'!I34,'3'!I34),\"ND\")","v":"ND"},{"$f":"IFERROR(AVERAGE('1'!J34,'2'!J34,'3'!J34),\"ND\")","v":"ND"},{"$f":"IFERROR(AVERAGE('1'!K34,'2'!K34,'3'!K34),\"ND\")","v":"ND"},{"$f":"IFERROR(AVERAGE('1'!L34,'2'!L34,'3'!L34),\"ND\")","v":"ND"},0,{"$f":"'1'!R34+'2'!R34+'3'!R34","v":0},0]
[30,{"$f":"'LISTA '!B34","v":0},{"$f":"'LISTA '!C34","v":0},0,{"$f":"IFERROR(AVERAGE('1'!E35,'2'!E35,'3'!E35),\"ND\")","v":0},{"$f":"IFERROR(AVERAGE('1'!F35,'2'!F35,'3'!F35),\"ND\")","v":"ND"},{"$f":"IFERROR(AVERAGE('1'!G35,'2'!G35,'3'!G35),\"ND\")","v":"ND"},{"$f":"IFERROR(AVERAGE('1'!H35,'2'!H35,'3'!H35),\"ND\")","v":"ND"},{"$f":"IFERROR(AVERAGE('1'!I35,'2'!I35,'3'!I35),\"ND\")","v":"ND"},{"$f":"IFERROR(AVERAGE('1'!J35,'2'!J35,'3'!J35),\"ND\")","v":"ND"},{"$f":"IFERROR(AVERAGE('1'!K35,'2'!K35,'3'!K35),\"ND\")","v":"ND"},{"$f":"IFERROR(AVERAGE('1'!L35,'2'!L35,'3'!L35),\"ND\")","v":"ND"},0,{"$f":"'1'!R35+'2'!R35+'3'!R35","v":0},0]
[31,{"$f":"'LISTA '!B35","v":0},{"$f":"'LISTA '!C35","v":0},0,{"$f":"IFERROR(AVERAGE('1'!E36,'2'!E36,'3'!E36),\"ND\")","v":0},{"$f":"IFERROR(AVERAGE('1'!F36,'2'!F36,'3'!F36),\"ND\")","v":"ND"},{"$f":"IFERROR(AVERAGE('1'!G36,'2'!G36,'3'!G36),\"ND\")","v":"ND"},{"$f":"IFERROR(AVERAGE('1'!H36,'2'!H36,'3'!H36),\"ND\")","v":"ND"},{"$f":"IFERROR(AVERAGE('1'!I36,'2'!I36,'3'!I36),\"ND\")","v":"ND"},{"$f":"IFERROR(AVERAGE('1'!J36,'2'!J36,'3'!J36),\"ND\")","v":"ND"},{"$f":"IFERROR(AVERAGE('1'!K36,'2'!K36,'3'!K36),\"ND\")","v":"ND"},{"$f":"IFERROR(AVERAGE('1'!L36,'2'!L36,'3'!L36),\"ND\")","v":"ND"},0,{"$f":"'1'!R36+'2'!R36+'3'!R36","v":0},0]
[32,{"$f":"'LISTA '!B36","v":0},{"$f":"'LISTA '!C36","v":0},0,{"$f":"IFERROR(AVERAGE('1'!E37,'2'!E37,'3'!E37),\"ND\")","v":0},{"$f":"IFERROR(AVERAGE('1'!F37,'2'!F37,'3'!F37),\"ND\")","v":"ND"},{"$f":"IFERROR(AVERAGE('1'!G37,'2'!G37,'3'!G37),\"ND\")","v":"ND"},{"$f":"IFERROR(AVERAGE('1'!H37,'2'!H37,'3'!H37),\"ND\")","v":"ND"},{"$f":"IFERROR(AVERAGE('1'!I37,'2'!I37,'3'!I37),\"ND\")","v":"ND"},{"$f":"IFERROR(AVERAGE('1'!J37,'2'!J37,'3'!J37),\"ND\")","v":"ND"},{"$f":"IFERROR(AVERAGE('1'!K37,'2'!K37,'3'!K37),\"ND\")","v":"ND"},{"$f":"IFERROR(AVERAGE('1'!L37,'2'!L37,'3'!L37),\"ND\")","v":"ND"},0,{"$f":"'1'!R37+'2'!R37+'3'!R37","v":0},0]
[33,{"$f":"'LISTA '!B37","v":0},{"$f":"'LISTA '!C37","v":0},0,{"$f":"IFERROR(AVERAGE('1'!E38,'2'!E38,'3'!E38),\"ND\")","v":0},{"$f":"IFERROR(AVERAGE('1'!F38,'2'!F38,'3'!F38),\"ND\")","v":"ND"},{"$f":"IFERROR(AVERAGE('1'!G38,'2'!G38,'3'!G38),\"ND\")","v":"ND"},{"$f":"IFERROR(AVERAGE('1'!H38,'2'!H38,'3'!H38),\"ND\")","v":"ND"},{"$f":"IFERROR(AVERAGE('1'!I38,'2'!I38,'3'!I38),\"ND\")","v":"ND"},{"$f":"IFERROR(AVERAGE('1'!J38,'2'!J38,'3'!J38),\"ND\")","v":"ND"},{"$f":"IFERROR(AVERAGE('1'!K38,'2'!K38,'3'!K38),\"ND\")","v":"ND"},{"$f":"IFERROR(AVERAGE('1'!L38,'2'!L38,'3'!L38),\"ND\")","v":"ND"},0,{"$f":"'1'!R38+'2'!R38+'3'!R38","v":0},0]
[34,{"$f":"'LISTA '!B38","v":0},{"$f":"'LISTA '!C38","v":0},0,{"$f":"IFERROR(AVERAGE('1'!E39,'2'!E39,'3'!E39),\"ND\")","v":0},{"$f":"IFERROR(AVERAGE('1'!F39,'2'!F39,'3'!F39),\"ND\")","v":"ND"},{"$f":"IFERROR(AVERAGE('1'!G39,'2'!G39,'3'!G39),\"ND\")","v":"ND"},{"$f":"IFERROR(AVERAGE('1'!H39,'2'!H39,'3'!H39),\"ND\")","v":"ND"},{"$f":"IFERROR(AVERAGE('1'!I39,'2'!I39,'3'!I39),\"ND\")","v":"ND"},{"$f":"IFERROR(AVERAGE('1'!J39,'2'!J39,'3'!J39),\"ND\")","v":"ND"},{"$f":"IFERROR(AVERAGE('1'!K39,'2'!K39,'3'!K39),\"ND\")","v":"ND"},{"$f":"IFERROR(AVERAGE('1'!L39,'2'!L39,'3'!L39),\"ND\")","v":"ND"},0,{"$f":"'1'!R39+'2'!R39+'3'!R39","v":0},0]
[35,{"$f":"'LISTA '!B39","v":0},{"$f":"'LISTA '!C39","v":0},0,{"$f":"IFERROR(AVERAGE('1'!E40,'2'!E40,'3'!E40),\"ND\")","v":0},{"$f":"IFERROR(AVERAGE('1'!F40,'2'!F40,'3'!F40),\"ND\")","v":"ND"},{"$f":"IFERROR(AVERAGE('1'!G40,'2'!G40,'3'!G40),\"ND\")","v":"ND"},{"$f":"IFERROR(AVERAGE('1'!H40,'2'!H40,'3'!H40),\"ND\")","v":"ND"},{"$f":"IFERROR(AVERAGE('1'!I40,'2'!I40,'3'!I40),\"ND\")","v":"ND"},{"$f":"IFERROR(AVERAGE('1'!J40,'2'!J40,'3'!J40),\"ND\")","v":"ND"},{"$f":"IFERROR(AVERAGE('1'!K40,'2'!K40,'3'!K40),\"ND\")","v":"ND"},{"$f":"IFERROR(AVERAGE('1'!L40,'2'!L40,'3'!L40),\"ND\")","v":"ND"},0,{"$f":"'1'!R40+'2'!R40+'3'!R40","v":0},0]
[36,{"$f":"'LISTA '!B40","v":0},{"$f":"'LISTA '!C40","v":0},0,{"$f":"IFERROR(AVERAGE('1'!E41,'2'!E41,'3'!E41),\"ND\")","v":0},{"$f":"IFERROR(AVERAGE('1'!F41,'2'!F41,'3'!F41),\"ND\")","v":"ND"},{"$f":"IFERROR(AVERAGE('1'!G41,'2'!G41,'3'!G41),\"ND\")","v":"ND"},{"$f":"IFERROR(AVERAGE('1'!H41,'2'!H41,'3'!H41),\"ND\")","v":"ND"},{"$f":"IFERROR(AVERAGE('1'!I41,'2'!I41,'3'!I41),\"ND\")","v":"ND"},{"$f":"IFERROR(AVERAGE('1'!J41,'2'!J41,'3'!J41),\"ND\")","v":"ND"},{"$f":"IFERROR(AVERAGE('1'!K41,'2'!K41,'3'!K41),\"ND\")","v":"ND"},{"$f":"IFERROR(AVERAGE('1'!L41,'2'!L41,'3'!L41),\"ND\")","v":"ND"},0,{"$f":"'1'!R41+'2'!R41+'3'!R41","v":0},0]
[37,{"$f":"'LISTA '!B41","v":0},{"$f":"'LISTA '!C41","v":0},0,{"$f":"IFERROR(AVERAGE('1'!E42,'2'!E42,'3'!E42),\"ND\")","v":0},{"$f":"IFERROR(AVERAGE('1'!F42,'2'!F42,'3'!F42),\"ND\")","v":"ND"},{"$f":"IFERROR(AVERAGE('1'!G42,'2'!G42,'3'!G42),\"ND\")","v":"ND"},{"$f":"IFERROR(AVERAGE('1'!H42,'2'!H42,'3'!H42),\"ND\")","v":"ND"},{"$f":"IFERROR(AVERAGE('1'!I42,'2'!I42,'3'!I42),\"ND\")","v":"ND"},{"$f":"IFERROR(AVERAGE('1'!J42,'2'!J42,'3'!J42),\"ND\")","v":"ND"},{"$f":"IFERROR(AVERAGE('1'!K42,'2'!K42,'3'!K42),\"ND\")","v":"ND"},{"$f":"IFERROR(AVERAGE('1'!L42,'2'!L42,'3'!L42),\"ND\")","v":"ND"},0,{"$f":"'1'!R42+'2'!R42+'3'!R42","v":0},0]
[38,{"$f":"'LISTA '!B42","v":0},{"$f":"'LISTA '!C42","v":0},0,{"$f":"IFERROR(AVERAGE('1'!E43,'2'!E43,'3'!E43),\"ND\")","v":0},{"$f":"IFERROR(AVERAGE('1'!F43,'2'!F43,'3'!F43),\"ND\")","v":"ND"},{"$f":"IFERROR(AVERAGE('1'!G43,'2'!G43,'3'!G43),\"ND\")","v":"ND"},{"$f":"IFERROR(AVERAGE('1'!H43,'2'!H43,'3'!H43),\"ND\")","v":"ND"},{"$f":"IFERROR(AVERAGE('1'!I43,'2'!I43,'3'!I43),\"ND\")","v":"ND"},{"$f":"IFERROR(AVERAGE('1'!J43,'2'!J43,'3'!J43),\"ND\")","v":"ND"},{"$f":"IFERROR(AVERAGE('1'!K43,'2'!K43,'3'!K43),\"ND\")","v":"ND"},{"$f":"IFERROR(AVERAGE('1'!L43,'2'!L43,'3'!L43),\"ND\")","v":"ND"},0,{"$f":"'1'!R43+'2'!R43+'3'!R43","v":0},0]
[39,{"$f":"'LISTA '!B43","v":0},{"$f":"'LISTA '!C43","v":0},0,{"$f":"IFERROR(AVERAGE('1'!E44,'2'!E44,'3'!E44),\"ND\")","v":0},{"$f":"IFERROR(AVERAGE('1'!F44,'2'!F44,'3'!F44),\"ND\")","v":"ND"},{"$f":"IFERROR(AVERAGE('1'!G44,'2'!G44,'3'!G44),\"ND\")","v":"ND"},{"$f":"IFERROR(AVERAGE('1'!H44,'2'!H44,'3'!H44),\"ND\")","v":"ND"},{"$f":"IFERROR(AVERAGE('1'!I44,'2'!I44,'3'!I44),\"ND\")","v":"ND"},{"$f":"IFERROR(AVERAGE('1'!J44,'2'!J44,'3'!J44),\"ND\")","v":"ND"},{"$f":"IFERROR(AVERAGE('1'!K44,'2'!K44,'3'!K44),\"ND\")","v":"ND"},{"$f":"IFERROR(AVERAGE('1'!L44,'2'!L44,'3'!L44),\"ND\")","v":"ND"},0,{"$f":"'1'!R44+'2'!R44+'3'!R44","v":0},0]
[40,{"$f":"'LISTA '!B44","v":0},{"$f":"'LISTA '!C44","v":0},0,{"$f":"IFERROR(AVERAGE('1'!E45,'2'!E45,'3'!E45),\"ND\")","v":0},{"$f":"IFERROR(AVERAGE('1'!F45,'2'!F45,'3'!F45),\"ND\")","v":"ND"},{"$f":"IFERROR(AVERAGE('1'!G45,'2'!G45,'3'!G45),\"ND\")","v":"ND"},{"$f":"IFERROR(AVERAGE('1'!H45,'2'!H45,'3'!H45),\"ND\")","v":"ND"},{"$f":"IFERROR(AVERAGE('1'!I45,'2'!I45,'3'!I45),\"ND\")","v":"ND"},{"$f":"IFERROR(AVERAGE('1'!J45,'2'!J45,'3'!J45),\"ND\")","v":"ND"},{"$f":"IFERROR(AVERAGE('1'!K45,'2'!K45,'3'!K45),\"ND\")","v":"ND"},{"$f":"IFERROR(AVERAGE('1'!L45,'2'!L45,'3'!L45),\"ND\")","v":"ND"},0,{"$f":"'1'!R45+'2'!R45+'3'!R45","v":0},0]
[41,{"$f":"'LISTA '!B45","v":0},{"$f":"'LISTA '!C45","v":0},0,{"$f":"IFERROR(AVERAGE('1'!E46,'2'!E46,'3'!E46),\"ND\")","v":0},{"$f":"IFERROR(AVERAGE('1'!F46,'2'!F46,'3'!F46),\"ND\")","v":"ND"},{"$f":"IFERROR(AVERAGE('1'!G46,'2'!G46,'3'!G46),\"ND\")","v":"ND"},{"$f":"IFERROR(AVERAGE('1'!H46,'2'!H46,'3'!H46),\"ND\")","v":"ND"},{"$f":"IFERROR(AVERAGE('1'!I46,'2'!I46,'3'!I46),\"ND\")","v":"ND"},{"$f":"IFERROR(AVERAGE('1'!J46,'2'!J46,'3'!J46),\"ND\")","v":"ND"},{"$f":"IFERROR(AVERAGE('1'!K46,'2'!K46,'3'!K46),\"ND\")","v":"ND"},{"$f":"IFERROR(AVERAGE('1'!L46,'2'!L46,'3'!L46),\"ND\")","v":"ND"},0,{"$f":"'1'!R46+'2'!R46+'3'!R46","v":0},0]
[42,{"$f":"'LISTA '!B46","v":0},{"$f":"'LISTA '!C46","v":0},0,{"$f":"IFERROR(AVERAGE('1'!E47,'2'!E47,'3'!E47),\"ND\")","v":0},{"$f":"IFERROR(AVERAGE('1'!F47,'2'!F47,'3'!F47),\"ND\")","v":"ND"},{"$f":"IFERROR(AVERAGE('1'!G47,'2'!G47,'3'!G47),\"ND\")","v":"ND"},{"$f":"IFERROR(AVERAGE('1'!H47,'2'!H47,'3'!H47),\"ND\")","v":"ND"},{"$f":"IFERROR(AVERAGE('1'!I47,'2'!I47,'3'!I47),\"ND\")","v":"ND"},{"$f":"IFERROR(AVERAGE('1'!J47,'2'!J47,'3'!J47),\"ND\")","v":"ND"},{"$f":"IFERROR(AVERAGE('1'!K47,'2'!K47,'3'!K47),\"ND\")","v":"ND"},{"$f":"IFERROR(AVERAGE('1'!L47,'2'!L47,'3'!L47),\"ND\")","v":"ND"},0,{"$f":"'1'!R47+'2'!R47+'3'!R47","v":0},0]
[43,{"$f":"'LISTA '!B47","v":0},{"$f":"'LISTA '!C47","v":0},0,{"$f":"IFERROR(AVERAGE('1'!E48,'2'!E48,'3'!E48),\"ND\")","v":0},{"$f":"IFERROR(AVERAGE('1'!F48,'2'!F48,'3'!F48),\"ND\")","v":"ND"},{"$f":"IFERROR(AVERAGE('1'!G48,'2'!G48,'3'!G48),\"ND\")","v":"ND"},{"$f":"IFERROR(AVERAGE('1'!H48,'2'!H48,'3'!H48),\"ND\")","v":"ND"},{"$f":"IFERROR(AVERAGE('1'!I48,'2'!I48,'3'!I48),\"ND\")","v":"ND"},{"$f":"IFERROR(AVERAGE('1'!J48,'2'!J48,'3'!J48),\"ND\")","v":"ND"},{"$f":"IFERROR(AVERAGE('1'!K48,'2'!K48,'3'!K48),\"ND\")","v":"ND"},{"$f":"IFERROR(AVERAGE('1'!L48,'2'!L48,'3'!L48),\"ND\")","v":"ND"},0,{"$f":"'1'!R48+'2'!R48+'3'!R48","v":0},0]
[44,{"$f":"'LISTA '!B48","v":0},{"$f":"'LISTA '!C48","v":0},0,{"$f":"IFERROR(AVERAGE('1'!E49,'2'!E49,'3'!E49),\"ND\")","v":0},{"$f":"IFERROR(AVERAGE('1'!F49,'2'!F49,'3'!F49),\"ND\")","v":"ND"},{"$f":"IFERROR(AVERAGE('1'!G49,'2'!G49,'3'!G49),\"ND\")","v":"ND"},{"$f":"IFERROR(AVERAGE('1'!H49,'2'!H49,'3'!H49),\"ND\")","v":"ND"},{"$f":"IFERROR(AVERAGE('1'!I49,'2'!I49,'3'!I49),\"ND\")","v":"ND"},{"$f":"IFERROR(AVERAGE('1'!J49,'2'!J49,'3'!J49),\"ND\")","v":"ND"},{"$f":"IFERROR(AVERAGE('1'!K49,'2'!K49,'3'!K49),\"ND\")","v":"ND"},{"$f":"IFERROR(AVERAGE('1'!L49,'2'!L49,'3'!L49),\"ND\")","v":"ND"},0,{"$f":"'1'!R49+'2'!R49+'3'!R49","v":0},0]
[45,{"$f":"'LISTA '!B49","v":0},{"$f":"'LISTA '!C49","v":0},0,{"$f":"IFERROR(AVERAGE('1'!E50,'2'!E50,'3'!E50),\"ND\")","v":0},{"$f":"IFERROR(AVERAGE('1'!F50,'2'!F50,'3'!F50),\"ND\")","v":"ND"},{"$f":"IFERROR(AVERAGE('1'!G50,'2'!G50,'3'!G50),\"ND\")","v":"ND"},{"$f":"IFERROR(AVERAGE('1'!H50,'2'!H50,'3'!H50),\"ND\")","v":"ND"},{"$f":"IFERROR(AVERAGE('1'!I50,'2'!I50,'3'!I50),\"ND\")","v":"ND"},{"$f":"IFERROR(AVERAGE('1'!J50,'2'!J50,'3'!J50),\"ND\")","v":"ND"},{"$f":"IFERROR(AVERAGE('1'!K50,'2'!K50,'3'!K50),\"ND\")","v":"ND"},{"$f":"IFERROR(AVERAGE('1'!L50,'2'!L50,'3'!L50),\"ND\")","v":"ND"},0,{"$f":"'1'!R50+'2'!R50+'3'!R50","v":0},0]
[46,{"$f":"'LISTA '!B50","v":0},{"$f":"'LISTA '!C50","v":0},0,{"$f":"IFERROR(AVERAGE('1'!E51,'2'!E51,'3'!E51),\"ND\")","v":0},{"$f":"IFERROR(AVERAGE('1'!F51,'2'!F51,'3'!F51),\"ND\")","v":"ND"},{"$f":"IFERROR(AVERAGE('1'!G51,'2'!G51,'3'!G51),\"ND\")","v":"ND"},{"$f":"IFERROR(AVERAGE('1'!H51,'2'!H51,'3'!H51),\"ND\")","v":"ND"},{"$f":"IFERROR(AVERAGE('1'!I51,'2'!I51,'3'!I51),\"ND\")","v":"ND"},{"$f":"IFERROR(AVERAGE('1'!J51,'2'!J51,'3'!J51),\"ND\")","v":"ND"},{"$f":"IFERROR(AVERAGE('1'!K51,'2'!K51,'3'!K51),\"ND\")","v":"ND"},{"$f":"IFERROR(AVERAGE('1'!L51,'2'!L51,'3'!L51),\"ND\")","v":"ND"},0,{"$f":"'1'!R51+'2'!R51+'3'!R51","v":0},0]
[47,{"$f":"'LISTA '!B51","v":0},{"$f":"'LISTA '!C51","v":0},0,{"$f":"IFERROR(AVERAGE('1'!E52,'2'!E52,'3'!E52),\"ND\")","v":0},{"$f":"IFERROR(AVERAGE('1'!F52,'2'!F52,'3'!F52),\"ND\")","v":"ND"},{"$f":"IFERROR(AVERAGE('1'!G52,'2'!G52,'3'!G52),\"ND\")","v":"ND"},{"$f":"IFERROR(AVERAGE('1'!H52,'2'!H52,'3'!H52),\"ND\")","v":"ND"},{"$f":"IFERROR(AVERAGE('1'!I52,'2'!I52,'3'!I52),\"ND\")","v":"ND"},{"$f":"IFERROR(AVERAGE('1'!J52,'2'!J52,'3'!J52),\"ND\")","v":"ND"},{"$f":"IFERROR(AVERAGE('1'!K52,'2'!K52,'3'!K52),\"ND\")","v":"ND"},{"$f":"IFERROR(AVERAGE('1'!L52,'2'!L52,'3'!L52),\"ND\")","v":"ND"},0,{"$f":"'1'!R52+'2'!R52+'3'!R52","v":0},0]
[48,{"$f":"'LISTA '!B52","v":0},{"$f":"'LISTA '!C52","v":0},0,{"$f":"IFERROR(AVERAGE('1'!E53,'2'!E53,'3'!E53),\"ND\")","v":0},{"$f":"IFERROR(AVERAGE('1'!F53,'2'!F53,'3'!F53),\"ND\")","v":"ND"},{"$f":"IFERROR(AVERAGE('1'!G53,'2'!G53,'3'!G53),\"ND\")","v":"ND"},{"$f":"IFERROR(AVERAGE('1'!H53,'2'!H53,'3'!H53),\"ND\")","v":"ND"},{"$f":"IFERROR(AVERAGE('1'!I53,'2'!I53,'3'!I53),\"ND\")","v":"ND"},{"$f":"IFERROR(AVERAGE('1'!J53,'2'!J53,'3'!J53),\"ND\")","v":"ND"},{"$f":"IFERROR(AVERAGE('1'!K53,'2'!K53,'3'!K53),\"ND\")","v":"ND"},{"$f":"IFERROR(AVERAGE('1'!L53,'2'!L53,'3'!L53),\"ND\")","v":"ND"},0,{"$f":"'1'!R53+'2'!R53+'3'!R53","v":0},0]
[49,{"$f":"'LISTA '!B53","v":0},{"$f":"'LISTA '!C53","v":0},0,{"$f":"IFERROR(AVERAGE('1'!E54,'2'!E54,'3'!E54),\"ND\")","v":0},{"$f":"IFERROR(AVERAGE('1'!F54,'2'!F54,'3'!F54),\"ND\")","v":"ND"},{"$f":"IFERROR(AVERAGE('1'!G54,'2'!G54,'3'!G54),\"ND\")","v":"ND"},{"$f":"IFERROR(AVERAGE('1'!H54,'2'!H54,'3'!H54),\"ND\")","v":"ND"},{"$f":"IFERROR(AVERAGE('1'!I54,'2'!I54,'3'!I54),\"ND\")","v":"ND"},{"$f":"IFERROR(AVERAGE('1'!J54,'2'!J54,'3'!J54),\"ND\")","v":"ND"},{"$f":"IFERROR(AVERAGE('1'!K54,'2'!K54,'3'!K54),\"ND\")","v":"ND"},{"$f":"IFERROR(AVERAGE('1'!L54,'2'!L54,'3'!L54),\"ND\")","v":"ND"},0,{"$f":"'1'!R54+'2'!R54+'3'!R54","v":0},0]
[50,{"$f":"'LISTA '!B54","v":0},{"$f":"'LISTA '!C54","v":0},0,{"$f":"IFERROR(AVERAGE('1'!E55,'2'!E55,'3'!E55),\"ND\")","v":0},{"$f":"IFERROR(AVERAGE('1'!F55,'2'!F55,'3'!F55),\"ND\")","v":"ND"},{"$f":"IFERROR(AVERAGE('1'!G55,'2'!G55,'3'!G55),\"ND\")","v":"ND"},{"$f":"IFERROR(AVERAGE('1'!H55,'2'!H55,'3'!H55),\"ND\")","v":"ND"},{"$f":"IFERROR(AVERAGE('1'!I55,'2'!I55,'3'!I55),\"ND\")","v":"ND"},{"$f":"IFERROR(AVERAGE('1'!J55,'2'!J55,'3'!J55),\"ND\")","v":"ND"},{"$f":"IFERROR(AVERAGE('1'!K55,'2'!K55,'3'!K55),\"ND\")","v":"ND"},{"$f":"IFERROR(AVERAGE('1'!L55,'2'!L55,'3'!L55),\"ND\")","v":"ND"},0,{"$f":"'1'!R55+'2'!R55+'3'!R55","v":0},0]
[null,"PROFESOR (A)",{"$f":"'DATOS GENERALES'!G13","v":0}]
[]
[]
[null,null,"PROMEDIOS ANUALES ",null,{"$f":"AVERAGE(E6:E55)","v":0},{"$f":"AVERAGE(F6:F55)","v":{"$error":"#DIV/0!"}},{"$error":"#DIV/0!"},{"$error":"#DIV/0!"},{"$error":"#DIV/0!"},{"$error":"#DIV/0!"},{"$error":"#DIV/0!"},{"$error":"#DIV/0!"},0,{"$f":"AVERAGE(N6:N55)","v":0},0]
[]
[]
[null,"DISEÑADO POR : LUIS GILBERTO GRANADOS LARA"]

{"sheet":"GRÁFICA","index":6,"n_rows":38,"n_cols":10,"rows_kept":38,"cut":false,"hidden":false,"merged":[[33,1,33,3],[31,1,31,3],[32,1,32,3],[31,5,31,6],[0,0,0,9],[1,0,1,9],[2,1,2,9]]}
[{"$f":"'DATOS GENERALES'!G9","v":0}]
["APROVECHAMIENTO POR PERIODO"]
[null,{"$f":"'DATOS GENERALES'!G12","v":0}]
[null,"PERIODO",{"$f":"'1'!E5","v":"ESPAÑOL"},{"$f":"'1'!F5","v":"MATEMÁTICAS"},{"$f":"'1'!G5","v":"INGLES"},{"$f":"'1'!H5","v":"CONOCIMIENTO DEL MEDIO"},{"$f":"'1'!I5","v":"ARTES"},{"$f":"'1'!J5","v":"EDUC FISICA"},{"$f":"'1'!K5","v":"VIDA SALUDABLE"},{"$f":"'1'!L5","v":"EDUCACIÓN CÍVICA"}]
[null,"PERIODO 1",{"$f":"'1'!E60","v":0},{"$f":"'1'!F60","v":{"$error":"#DIV/0!"}},{"$f":"'1'!G60","v":{"$error":"#DIV/0!"}},{"$f":"'1'!H60","v":{"$error":"#DIV/0!"}},{"$f":"'1'!I60","v":{"$error":"#DIV/0!"}},{"$f":"'1'!J60","v":{"$error":"#DIV/0!"}},{"$f":"'1'!K60","v":{"$error":"#DIV/0!"}},{"$f":"'1'!L60","v":{"$error":"#DIV/0!"}}]
[null,"PERIODO 2",{"$f":"'2'!E60","v":0},{"$f":"'2'!F60","v":{"$error":"#DIV/0!"}},{"$f":"'2'!G60","v":{"$error":"#DIV/0!"}},{"$f":"'2'!H60","v":{"$error":"#DIV/0!"}},{"$f":"'2'!I60","v":{"$error":"#DIV/0!"}},{"$f":"'2'!J60","v":{"$error":"#DIV/0!"}},{"$f":"'2'!K60","v":{"$error":"#DIV/0!"}},{"$f":"'2'!L60","v":{"$error":"#DIV/0!"}}]
[null,"PERIODO 3",{"$f":"'3'!E60","v":0},{"$f":"'3'!F60","v":{"$error":"#DIV/0!"}},{"$f":"'3'!G60","v":{"$error":"#DIV/0!"}},{"$f":"'3'!H60","v":{"$error":"#DIV/0!"}},{"$f":"'3'!I60","v":{"$error":"#DIV/0!"}},{"$f":"'3'!J60","v":{"$error":"#DIV/0!"}},{"$f":"'3'!K60","v":{"$error":"#DIV/0!"}},{"$f":"'3'!L60","v":{"$error":"#DIV/0!"}}]
[]
[]
[]
[]
[]
[]
[]
[]
[]
[]
[]
[]
[]
[]
[]
[]
[]
[]
[]
[]
[]
[]
[]
[]
[]
[null,{"$f":"'DATOS GENERALES'!G13","v":0},null,null,null,null,{"$f":"'DATOS GENERALES'!G14","v":0}]
[null,"MAESTRO (A)",null,null,null,null,"DIRECTOR"]
[]
[]
[]
[null,"DISEÑO: PROFR LUIS GILBERTO GRANADOS LARA"]

{"sheet":"GENÉRICOS","index":7,"n_rows":10,"n_cols":2,"rows_kept":10,"cut":false,"hidden":false,"merged":[]}
[]
[null,"COMENTARIOS Y RECOMENDACIONES DEL DOCENTE"]
[null,"Que el alumno escriba notas de su interés"]
[null,"Reforzar conteo y ordenar números hasta 100"]
[null,"Se le pueden poner algunos problemas matemáticos que impliquen suma y resta hasta 100"]
[null,"puede hacer recolección de datos en casa, como preferencias de los miembros de la familia."]
[null,"Puede seguir reforzando canciones y rondas infantiles"]
[null,"Sugerir algunas actividades para mejorar el trazo."]
[null,"Es muy articulado oralmente y su expresión adecuada."]
[null,"Es importante que siga trabajando en la escritura de palabras a partir del alfabeto móvil."]

{"sheet":"BOLETA","index":8,"n_rows":73,"n_cols":12,"rows_kept":73,"cut":false,"hidden":false,"merged":[[50,0,60,0],[61,0,71,0],[72,0,82,0],[81,1,81,13],[82,1,82,13],[83,1,83,13],[75,1,75,13],[76,1,76,13],[77,1,77,13],[78,1,78,13],[79,1,79,13],[80,1,80,13],[66,1,66,13],[67,1,67,13],[68,1,68,13],[69,1,69,13],[70,1,70,13],[71,1,71,13],[72,1,72,13],[73,1,73,13],[74,1,74,13],[58,1,58,13],[59,1,59,13],[60,1,60,13],[61,1,61,13],[62,1,62,13],[63,1,63,13],[64,1,64,13],[65,1,65,13],[49,1,49,13],[50,1,50,13],[54,1,54,13],[55,1,55,13],[56,1,56,13],[51,1,51,13],[52,1,52,13],[53,1,53,13],[57,1,57,13],[8,10,8,13],[13,7,13,9],[13,11,13,13],[12,11,12,13],[12,7,12,9],[13,4,13,5],[29,1,30,1],[29,2,30,2],[29,3,30,3],[29,4,30,4],[29,5,30,5],[21,3,22,3],[21,2,22,2],[12,4,12,5],[13,1,13,2],[12,1,12,2],[9,3,9,4],[9,6,9,7],[44,8,44,9],[36,10,38,11],[31,1,32,1],[31,2,32,2],[31,3,32,3],[31,4,32,4],[43,1,43,5],[20,9,20,11],[21,9,21,11],[44,1,44,5],[17,1,18,1],[17,2,18,2],[17,3,18,3],[17,4,18,4],[17,5,18,5],[19,1,20,1],[19,2,20,2],[19,3,20,3],[36,1,36,5],[35,1,35,5],[39,1,39,5],[40,1,40,5],[19,4,20,4],[19,5,20,5],[21,1,22,1],[31,5,32,5],[27,1,28,1],[27,2,28,2],[27,3,28,3],[27,4,28,4],[27,5,28,5],[17,0,24,0],[25,0,28,0],[8,1,8,9],[23,2,24,2],[25,2,26,2],[25,1,26,1],[23,5,24,5],[25,5,26,5],[23,3,24,3],[23,4,24,4],[25,3,26,3],[25,4,26,4],[15,7,15,13],[16,7,16,10],[17,7,17,10],[18,7,18,10],[16,11,16,13],[15,2,15,4],[15,1,16,1],[17,11,17,13],[18,11,18,13],[25,7,25,13],[21,4,22,4],[21,5,22,5]]}
[]
[]
[]
[]
[]
[]
[null,"DATOS DEL ALUMNO"]
[]
[null,"GRANADOS LARA LUIS GILBERTO",null,null,null,null,null,null,null,null,{"$f":"VLOOKUP(B9,'1'!C5:E55,2,FALSE)","v":{"$error":"#N/A"}}]
[null,"PRIMER APELLIDO",null,"SEGUNDO APELLIDO",null,null,"NOMBRES",null,null,null,null,"CURP"]
[]
[null,"DATOS DE LA ESCUELA"]
[null,{"$f":"'DATOS GENERALES'!G9","v":0},null,null,{"$f":"'DATOS GENERALES'!G12","v":0},null,null,{"$f":"'DATOS GENERALES'!G11","v":0},null,null,null,{"$f":"'DATOS GENERALES'!G10","v":0}]
[null,"NOMBRE DE LA ESCUELA",null,null,"GRUPO",null,null,"TURNO",null,null,null,"CCT"]
[]
[null,"ASIGNATURAS/AREAS","PERIODOS DE EVALUACIÓN",null,null,"PROMEDIO",null,"ASISTENCIA"]
[null,null,"1º","2º","3º","FINAL",null,"Calendario Escolar",null,null,null,190]
["FORMACIÓN ACADÉMICA","LENGUA MATERNA\n(ESPAÑOL)",{"$f":"VLOOKUP($K$9,'1'!D5:L55,2,FALSE)","v":{"$error":"#N/A"}},{"$f":"VLOOKUP($K$9,'2'!$D$5:$L$55,2,FALSE)","v":{"$error":"#N/A"}},{"$f":"VLOOKUP($K$9,'3'!D5:L55,2,FALSE)","v":{"$error":"#N/A"}},{"$f":"AVERAGE(C18:E19)","v":{"$error":"#N/A"}},null,"Asistencias",null,null,null,{"$f":"VLOOKUP($K$9,PROMEDIOS!D6:O55,11,FALSE)","v":{"$error":"#N/A"}}]
[null,null,null,null,null,null,null,"% Asistencia*",null,null,null,{"$f":"L18/L17","v":{"$error":"#N/A"}}]
[null,"MATEMÁTICAS",{"$f":"VLOOKUP($K$9,'1'!D5:L55,3,FALSE)","v":{"$error":"#N/A"}},{"$f":"VLOOKUP($K$9,'2'!D5:L55,3,FALSE)","v":{"$error":"#N/A"}},{"$f":"VLOOKUP($K$9,'3'!D5:L55,3,FALSE)","v":{"$error":"#N/A"}},{"$f":"AVERAGE(C20:E21)","v":{"$error":"#N/A"}}]
[null,null,null,null,null,null,null,null,null,"PROMEDIO FINAL DE GRADO"]
[null,"SEGUNDA LENGUA: \nINGLÉS",{"$f":"VLOOKUP($K$9,'1'!D5:L55,4,FALSE)","v":{"$error":"#N/A"}},{"$f":"VLOOKUP($K$9,'2'!D5:L55,4,FALSE)","v":{"$error":"#N/A"}},{"$f":"VLOOKUP($K$9,'3'!D5:L55,4,FALSE)","v":{"$error":"#N/A"}},{"$f":"AVERAGE(C22:E23)","v":{"$error":"#N/A"}},null,null,null,{"$f":"AVERAGE(F18,F20,F24,F26,F28)","v":{"$error":"#N/A"}}]
[]
[null,"CONOCIMIENTO",{"$f":"VLOOKUP($K$9,'1'!D5:L55,5,FALSE)","v":{"$error":"#N/A"}},{"$f":"VLOOKUP($K$9,'2'!D5:L55,5,FALSE)","v":{"$error":"#N/A"}},{"$f":"VLOOKUP($K$9,'3'!D5:L55,5,FALSE)","v":{"$error":"#N/A"}},{"$f":"AVERAGE(C24:E25)","v":{"$error":"#N/A"}},null,"PROMOVIDO",null,null,null,"NO PROMOVIDO"]
[null,"DEL MEDIO"]
["DESARROLLO PERSONAL Y SOCIAL","ARTES",{"$f":"VLOOKUP($K$9,'1'!D5:L55,6,FALSE)","v":{"$error":"#N/A"}},{"$f":"VLOOKUP($K$9,'2'!D5:L55,6,FALSE)","v":{"$error":"#N/A"}},{"$f":"VLOOKUP($K$9,'3'!D5:L55,6,FALSE)","v":{"$error":"#N/A"}},{"$f":"AVERAGE(C26:E27)","v":{"$error":"#N/A"}},null,"FIRMA DE LA MADRE, PADRE O TUTOR"]
[null,null,null,null,null,null,null,"1er Periodo"]
[null,"EDUCACIÓN FÍSICA",{"$f":"VLOOKUP($K$9,'1'!D5:L55,7,FALSE)","v":{"$error":"#N/A"}},{"$f":"VLOOKUP($K$9,'2'!D5:L55,7,FALSE)","v":{"$error":"#N/A"}},{"$f":"VLOOKUP($K$9,'3'!D5:L55,7,FALSE)","v":{"$error":"#N/A"}},{"$f":"AVERAGE(C28:E29)","v":{"$error":"#N/A"}}]
[null,null,null,null,null,null,null,"2º Periodo"]
[null,"VIDA SALUDABLE",{"$f":"VLOOKUP($K$9,'1'!D5:L55,8,FALSE)","v":{"$error":"#N/A"}},{"$f":"VLOOKUP($K$9,'2'!D5:L55,8,FALSE)","v":{"$error":"#N/A"}},{"$f":"VLOOKUP($K$9,'3'!D5:L55,8,FALSE)","v":{"$error":"#N/A"}},{"$f":"AVERAGE(C30:E31)","v":{"$error":"#N/A"}}]
[]
[null,"FORMACIÓN \nCÍVICA Y ÉTICA",{"$f":"VLOOKUP($K$9,'1'!D5:L55,9,FALSE)","v":{"$error":"#N/A"}},{"$f":"VLOOKUP($K$9,'2'!D5:L55,9,FALSE)","v":{"$error":"#N/A"}},{"$f":"VLOOKUP($K$9,'3'!D5:L55,9,FALSE)","v":{"$error":"#N/A"}},{"$f":"AVERAGE(C32:E33)","v":{"$error":"#N/A"}},null,"3er Periodo"]
[]
[]
[]
[null,{"$f":"'DATOS GENERALES'!G13","v":0}]
[null,"NOMBRE Y FIRMA DEL DOCENTE",null,null,null,null,null,null,null,null,"SELLO \nSISTEMA\nEDUCATIVO\nNACIONAL"]
[]
[]
[null,{"$f":"'DATOS GENERALES'!G14","v":0}]
[null,"NOMBRE Y FIRMA DEL DIRECTOR"]
[]
[]
[null,{"$f":"'DATOS GENERALES'!G15","v":0}]
[null,"LUGAR DE EXPEDICIÓN",null,null,null,null,null,null,"AÑO",null,"MES","DIA"]
[]
[]
[]
[]
[null,"OBSERVACIONES O RECOMENDACIONES GENERALES DEL DOCENTE"]
["PRIMER PERIODO"]
[]
[]
[]
[]
[]
[]
[]
[]
[]
[]
["SEGUNDO PERIODO"]
[]
[]
[]
[]
[]
[]
[]
[]
[]
[]
["TERCER PERIODO"]